BEGIN:VCALENDAR
VERSION:2.0
PRODID:-//AusschreibungsRadar//Timeline//DE
CALSCALE:GREGORIAN
METHOD:PUBLISH
X-WR-CALNAME:Projekt A4 FBE AS Glauchau-West bis AS Hohenstein-Ernstthal FR AC Lo
X-WR-TIMEZONE:Europe/Berlin
BEGIN:VEVENT
UID:9fddb33ffddf3b7d@ausschreibungsradar.com
DTSTAMP:20260425T134958Z
DTSTART;VALUE=DATE:20251209
DTEND;VALUE=DATE:20251209
SUMMARY:Angebotsfrist — A4 FBE AS Glauchau-West bis AS Hohenstein-Ernstthal FR AC Lo
DESCRIPTION:Phase: Ausschreibung | Beschreibung: Angebote werden eingeholt | Link: https://ausschreibungsradar.com/ausschreibung/2def8b20-4927-47e4-a79f-cd62270d2f52/
URL:https://ausschreibungsradar.com/ausschreibung/2def8b20-4927-47e4-a79f-cd62270d2f52/
END:VEVENT
BEGIN:VEVENT
UID:fff3e2b5bc1f7862@ausschreibungsradar.com
DTSTAMP:20260425T134958Z
DTSTART;VALUE=DATE:20260216
DTEND;VALUE=DATE:20260216
SUMMARY:Vergabeergebnis — A4 FBE AS Glauchau-West bis AS Hohenstein-Ernstthal FR AC Lo
DESCRIPTION:Phase: Vergabeergebnis | Beschreibung: Auftrag wurde zugeschlagen | Link: https://ausschreibungsradar.com/ausschreibung/ec706455-0db8-4350-b8cc-0050fd4b69e6/
URL:https://ausschreibungsradar.com/ausschreibung/ec706455-0db8-4350-b8cc-0050fd4b69e6/
END:VEVENT
END:VCALENDAR
