BEGIN:VCALENDAR
VERSION:2.0
PRODID:-//AusschreibungsRadar//Timeline//DE
CALSCALE:GREGORIAN
METHOD:PUBLISH
X-WR-CALNAME:Projekt Umbau und Sanierung Grundschule an der Bastau in Minden  -  
X-WR-TIMEZONE:Europe/Berlin
BEGIN:VEVENT
UID:af5efa25a5baf695@ausschreibungsradar.com
DTSTAMP:20260426T004731Z
DTSTART;VALUE=DATE:20260302
DTEND;VALUE=DATE:20260302
SUMMARY:Angebotsfrist — Umbau und Sanierung Grundschule an der Bastau in Minden  -  
DESCRIPTION:Phase: Ausschreibung | Beschreibung: Angebote werden eingeholt | Link: https://ausschreibungsradar.com/ausschreibung/9f8fea33-af5c-49e9-9034-9ec2fd79e065/
URL:https://ausschreibungsradar.com/ausschreibung/9f8fea33-af5c-49e9-9034-9ec2fd79e065/
END:VEVENT
BEGIN:VEVENT
UID:04942f747b79fbda@ausschreibungsradar.com
DTSTAMP:20260426T004731Z
DTSTART;VALUE=DATE:20260414
DTEND;VALUE=DATE:20260414
SUMMARY:Ausschreibung — Umbau und Sanierung Grundschule an der Bastau in Minden  -  
DESCRIPTION:Phase: Ausschreibung | Beschreibung: Offizielle Ausschreibung mit Bieterfrist. | Link: https://ausschreibungsradar.com/ausschreibung/e3dac7ee-94cb-49fd-a54f-eeb3af280a93/
URL:https://ausschreibungsradar.com/ausschreibung/e3dac7ee-94cb-49fd-a54f-eeb3af280a93/
END:VEVENT
BEGIN:VEVENT
UID:6e7ca1106c1ac4d8@ausschreibungsradar.com
DTSTAMP:20260426T004731Z
DTSTART;VALUE=DATE:20260421
DTEND;VALUE=DATE:20260421
SUMMARY:Vergabeergebnis — Umbau und Sanierung Grundschule an der Bastau in Minden  -  
DESCRIPTION:Phase: Vergabeergebnis | Beschreibung: Auftrag wurde zugeschlagen | Link: https://ausschreibungsradar.com/ausschreibung/2e127bd7-6f07-4fba-bc84-076210f44ac4/
URL:https://ausschreibungsradar.com/ausschreibung/2e127bd7-6f07-4fba-bc84-076210f44ac4/
END:VEVENT
BEGIN:VEVENT
UID:47337746628a9662@ausschreibungsradar.com
DTSTAMP:20260426T004731Z
DTSTART;VALUE=DATE:20260421
DTEND;VALUE=DATE:20260421
SUMMARY:Zuschlag — Umbau und Sanierung Grundschule an der Bastau in Minden  -  
DESCRIPTION:Phase: Zuschlag | Beschreibung: Vergabeergebnis — Auftrag wurde erteilt oder Verfahren beendet. | Link: https://ausschreibungsradar.com/ausschreibung/725c5512-5334-4859-a0f2-df9647a2b5eb/
URL:https://ausschreibungsradar.com/ausschreibung/725c5512-5334-4859-a0f2-df9647a2b5eb/
END:VEVENT
END:VCALENDAR
