BEGIN:VCALENDAR
VERSION:2.0
PRODID:-//AusschreibungsRadar//Timeline//DE
CALSCALE:GREGORIAN
METHOD:PUBLISH
X-WR-CALNAME:Projekt Neubau Lebenshilfeschule mit Tagesstätte Landau a.d.Isar; 
P
X-WR-TIMEZONE:Europe/Berlin
BEGIN:VEVENT
UID:59f83d5a7a64df2a@ausschreibungsradar.com
DTSTAMP:20260425T204755Z
DTSTART;VALUE=DATE:20250212
DTEND;VALUE=DATE:20250212
SUMMARY:Angebotsfrist — Neubau Lebenshilfeschule mit Tagesstätte Landau a.d.Isar\; \nP
DESCRIPTION:Phase: Ausschreibung | Beschreibung: Angebote werden eingeholt | Link: https://ausschreibungsradar.com/ausschreibung/2e356bd9-7b67-435f-8d16-7f7dfcb85872/
URL:https://ausschreibungsradar.com/ausschreibung/2e356bd9-7b67-435f-8d16-7f7dfcb85872/
END:VEVENT
BEGIN:VEVENT
UID:7bfe366fb5ef6274@ausschreibungsradar.com
DTSTAMP:20260425T204755Z
DTSTART;VALUE=DATE:20250123
DTEND;VALUE=DATE:20250123
SUMMARY:Zuschlag — Neubau Lebenshilfeschule mit Tagesstätte Landau a.d.Isar\; \nP
DESCRIPTION:Phase: Zuschlag | Beschreibung: Vergabeergebnis — Auftrag wurde erteilt oder Verfahren beendet. | Link: https://ausschreibungsradar.com/ausschreibung/2257506a-123c-4845-a0f2-120090d1b987/
URL:https://ausschreibungsradar.com/ausschreibung/2257506a-123c-4845-a0f2-120090d1b987/
END:VEVENT
BEGIN:VEVENT
UID:70c602b61eb12f7b@ausschreibungsradar.com
DTSTAMP:20260425T204755Z
DTSTART;VALUE=DATE:20250129
DTEND;VALUE=DATE:20250129
SUMMARY:Ausschreibung — Neubau Lebenshilfeschule mit Tagesstätte Landau a.d.Isar\; \nP
DESCRIPTION:Phase: Ausschreibung | Beschreibung: Offizielle Ausschreibung mit Bieterfrist. | Link: https://ausschreibungsradar.com/ausschreibung/586a5b7d-08dd-4052-9390-b335af959f10/
URL:https://ausschreibungsradar.com/ausschreibung/586a5b7d-08dd-4052-9390-b335af959f10/
END:VEVENT
BEGIN:VEVENT
UID:b9a77a7a82e7bfca@ausschreibungsradar.com
DTSTAMP:20260425T204755Z
DTSTART;VALUE=DATE:20250523
DTEND;VALUE=DATE:20250523
SUMMARY:Vergabeergebnis — Neubau Lebenshilfeschule mit Tagesstätte Landau a.d.Isar\; \nP
DESCRIPTION:Phase: Vergabeergebnis | Beschreibung: Auftrag wurde zugeschlagen | Link: https://ausschreibungsradar.com/ausschreibung/d358ba9d-2e09-430b-b517-6903652f6124/ | Auftragnehmer: Diaplan Innenausbau Gesmb
URL:https://ausschreibungsradar.com/ausschreibung/d358ba9d-2e09-430b-b517-6903652f6124/
END:VEVENT
END:VCALENDAR
