BEGIN:VCALENDAR
VERSION:2.0
PRODID:-//AusschreibungsRadar//Timeline//DE
CALSCALE:GREGORIAN
METHOD:PUBLISH
X-WR-CALNAME:Projekt Neubau Feuerwehrhaus Perleberg-Los 4.07 Abgasabsaugung
X-WR-TIMEZONE:Europe/Berlin
BEGIN:VEVENT
UID:c8b1aa83a3905280@ausschreibungsradar.com
DTSTAMP:20260423T233049Z
DTSTART;VALUE=DATE:20250520
DTEND;VALUE=DATE:20250520
SUMMARY:Ausschreibung — Neubau Feuerwehrhaus Perleberg-Los 4.07 Abgasabsaugung
DESCRIPTION:Phase: Ausschreibung | Beschreibung: Offizielle Ausschreibung mit Bieterfrist. | Link: https://ausschreibungsradar.com/ausschreibung/23869822/
URL:https://ausschreibungsradar.com/ausschreibung/23869822/
END:VEVENT
BEGIN:VEVENT
UID:13c95c6a3d337d1e@ausschreibungsradar.com
DTSTAMP:20260423T233049Z
DTSTART;VALUE=DATE:20250701
DTEND;VALUE=DATE:20250701
SUMMARY:Angebotsfrist — Neubau Feuerwehrhaus Perleberg-Los 4.07 Abgasabsaugung
DESCRIPTION:Phase: Ausschreibung | Beschreibung: Angebote werden eingeholt | Link: https://ausschreibungsradar.com/ausschreibung/2e3cde7c-640a-40d0-b48e-dbf7b6f6cf3d/ | Geschätzter Wert: 127985 €
URL:https://ausschreibungsradar.com/ausschreibung/2e3cde7c-640a-40d0-b48e-dbf7b6f6cf3d/
END:VEVENT
BEGIN:VEVENT
UID:20486ee3d1267d28@ausschreibungsradar.com
DTSTAMP:20260423T233049Z
DTSTART;VALUE=DATE:20250522
DTEND;VALUE=DATE:20250522
SUMMARY:Ausschreibung — Neubau Feuerwehrhaus Perleberg-Los 4.07 Abgasabsaugung
DESCRIPTION:Phase: Ausschreibung | Beschreibung: Offizielle Ausschreibung mit Bieterfrist. | Link: https://ausschreibungsradar.com/ausschreibung/6bd82c1c-bf1b-428e-8f93-10a9f44b28b0/
URL:https://ausschreibungsradar.com/ausschreibung/6bd82c1c-bf1b-428e-8f93-10a9f44b28b0/
END:VEVENT
BEGIN:VEVENT
UID:bfbb44d656f7c467@ausschreibungsradar.com
DTSTAMP:20260423T233049Z
DTSTART;VALUE=DATE:20250617
DTEND;VALUE=DATE:20250617
SUMMARY:Ausschreibung — Neubau Feuerwehrhaus Perleberg-Los 4.07 Abgasabsaugung
DESCRIPTION:Phase: Ausschreibung | Beschreibung: Offizielle Ausschreibung mit Bieterfrist. | Link: https://ausschreibungsradar.com/ausschreibung/869c55b5-7c19-477d-930f-9b6806f20f10/
URL:https://ausschreibungsradar.com/ausschreibung/869c55b5-7c19-477d-930f-9b6806f20f10/
END:VEVENT
BEGIN:VEVENT
UID:33436665e3034f23@ausschreibungsradar.com
DTSTAMP:20260423T233049Z
DTSTART;VALUE=DATE:20250619
DTEND;VALUE=DATE:20250619
SUMMARY:Ausschreibung — Neubau Feuerwehrhaus Perleberg-Los 4.07 Abgasabsaugung
DESCRIPTION:Phase: Ausschreibung | Beschreibung: Offizielle Ausschreibung mit Bieterfrist. | Link: https://ausschreibungsradar.com/ausschreibung/24007594/
URL:https://ausschreibungsradar.com/ausschreibung/24007594/
END:VEVENT
BEGIN:VEVENT
UID:6f51718e8ea2c2fa@ausschreibungsradar.com
DTSTAMP:20260423T233049Z
DTSTART;VALUE=DATE:20250813
DTEND;VALUE=DATE:20250813
SUMMARY:Vergabeergebnis — Neubau Feuerwehrhaus Perleberg-Los 4.07 Abgasabsaugung
DESCRIPTION:Phase: Vergabeergebnis | Beschreibung: Auftrag wurde zugeschlagen | Link: https://ausschreibungsradar.com/ausschreibung/8017df9a-343e-4253-a689-2f8f4e35972c/ | Geschätzter Wert: 127985 €
URL:https://ausschreibungsradar.com/ausschreibung/8017df9a-343e-4253-a689-2f8f4e35972c/
END:VEVENT
END:VCALENDAR
