BEGIN:VCALENDAR
VERSION:2.0
PRODID:-//AusschreibungsRadar//Timeline//DE
CALSCALE:GREGORIAN
METHOD:PUBLISH
X-WR-CALNAME:Projekt Werbekonzession Verkehrsmittelwerbung sowie Fahrgast-TV und 
X-WR-TIMEZONE:Europe/Berlin
BEGIN:VEVENT
UID:21a87a844441214e@ausschreibungsradar.com
DTSTAMP:20260424T134508Z
DTSTART;VALUE=DATE:20250314
DTEND;VALUE=DATE:20250314
SUMMARY:Ausschreibung — Werbekonzession Verkehrsmittelwerbung sowie Fahrgast-TV und 
DESCRIPTION:Phase: Ausschreibung | Beschreibung: Angebote werden eingeholt | Link: https://ausschreibungsradar.com/ausschreibung/2e3ec7ed-16df-4ee0-b56c-d934868cd80f/
URL:https://ausschreibungsradar.com/ausschreibung/2e3ec7ed-16df-4ee0-b56c-d934868cd80f/
END:VEVENT
BEGIN:VEVENT
UID:4bed2b6354ac8751@ausschreibungsradar.com
DTSTAMP:20260424T134508Z
DTSTART;VALUE=DATE:20250314
DTEND;VALUE=DATE:20250314
SUMMARY:Ausschreibung — Werbekonzession Verkehrsmittelwerbung sowie Fahrgast-TV und 
DESCRIPTION:Phase: Ausschreibung | Beschreibung: Offizielle Ausschreibung mit Bieterfrist. | Link: https://ausschreibungsradar.com/ausschreibung/dc407ed4-200d-47e5-80bc-c7175950e14a/
URL:https://ausschreibungsradar.com/ausschreibung/dc407ed4-200d-47e5-80bc-c7175950e14a/
END:VEVENT
BEGIN:VEVENT
UID:b80030d6b410e7ca@ausschreibungsradar.com
DTSTAMP:20260424T134508Z
DTSTART;VALUE=DATE:20250314
DTEND;VALUE=DATE:20250314
SUMMARY:Ausschreibung — Werbekonzession Verkehrsmittelwerbung sowie Fahrgast-TV und 
DESCRIPTION:Phase: Ausschreibung | Beschreibung: Offizielle Ausschreibung mit Bieterfrist. | Link: https://ausschreibungsradar.com/ausschreibung/200604d7-d358-49cf-aa7d-63c7d2df2fdb/
URL:https://ausschreibungsradar.com/ausschreibung/200604d7-d358-49cf-aa7d-63c7d2df2fdb/
END:VEVENT
BEGIN:VEVENT
UID:2b1355026ec3a65b@ausschreibungsradar.com
DTSTAMP:20260424T134508Z
DTSTART;VALUE=DATE:20250314
DTEND;VALUE=DATE:20250314
SUMMARY:Ausschreibung — Werbekonzession Verkehrsmittelwerbung sowie Fahrgast-TV und 
DESCRIPTION:Phase: Ausschreibung | Beschreibung: Offizielle Ausschreibung mit Bieterfrist. | Link: https://ausschreibungsradar.com/ausschreibung/2625d838-4470-4db0-a664-149a6adae8a2/
URL:https://ausschreibungsradar.com/ausschreibung/2625d838-4470-4db0-a664-149a6adae8a2/
END:VEVENT
BEGIN:VEVENT
UID:56471d0fbbc62550@ausschreibungsradar.com
DTSTAMP:20260424T134508Z
DTSTART;VALUE=DATE:20260220
DTEND;VALUE=DATE:20260220
SUMMARY:Vergabeergebnis — Werbekonzession Verkehrsmittelwerbung sowie Fahrgast-TV und 
DESCRIPTION:Phase: Vergabeergebnis | Beschreibung: Keine Angebote eingegangen | Link: https://ausschreibungsradar.com/ausschreibung/f4486bbf-c7a7-4cee-baf8-0f42da395f46/
URL:https://ausschreibungsradar.com/ausschreibung/f4486bbf-c7a7-4cee-baf8-0f42da395f46/
END:VEVENT
END:VCALENDAR
