BEGIN:VCALENDAR
VERSION:2.0
PRODID:-//AusschreibungsRadar//Timeline//DE
CALSCALE:GREGORIAN
METHOD:PUBLISH
X-WR-CALNAME:Projekt DSTW NB Rostock Serie 01 - Abschnitt Bentwisch Bau+OLA
X-WR-TIMEZONE:Europe/Berlin
BEGIN:VEVENT
UID:8295731b026cf21d@ausschreibungsradar.com
DTSTAMP:20260425T102519Z
DTSTART;VALUE=DATE:20250630
DTEND;VALUE=DATE:20250630
SUMMARY:Ausschreibung — DSTW NB Rostock Serie 01 - Abschnitt Bentwisch Bau+OLA
DESCRIPTION:Phase: Ausschreibung | Beschreibung: Angebote werden eingeholt | Link: https://ausschreibungsradar.com/ausschreibung/512f7149-23f5-44a5-b418-ecf9bca0d3b6/
URL:https://ausschreibungsradar.com/ausschreibung/512f7149-23f5-44a5-b418-ecf9bca0d3b6/
END:VEVENT
BEGIN:VEVENT
UID:7fdc96ae698b7f2b@ausschreibungsradar.com
DTSTAMP:20260425T102519Z
DTSTART;VALUE=DATE:20250917
DTEND;VALUE=DATE:20250917
SUMMARY:Vergabeergebnis — DSTW NB Rostock Serie 01 - Abschnitt Bentwisch Bau+OLA
DESCRIPTION:Phase: Vergabeergebnis | Beschreibung: Auftrag wurde zugeschlagen | Link: https://ausschreibungsradar.com/ausschreibung/d4f77c2c-653b-486d-ad0d-d4e5e74a6bd6/
URL:https://ausschreibungsradar.com/ausschreibung/d4f77c2c-653b-486d-ad0d-d4e5e74a6bd6/
END:VEVENT
BEGIN:VEVENT
UID:504387c7d6f8cd2e@ausschreibungsradar.com
DTSTAMP:20260425T102519Z
DTSTART;VALUE=DATE:20260126
DTEND;VALUE=DATE:20260126
SUMMARY:Vertragsmodifikation — DSTW NB Rostock Serie 01 - Abschnitt Bentwisch Bau+OLA
DESCRIPTION:Phase: Vertragsmodifikation | Beschreibung: Änderung am bestehenden Vertrag nach Zuschlag. | Link: https://ausschreibungsradar.com/ausschreibung/739b446d-65d9-4b43-86ee-404571611ad0/
URL:https://ausschreibungsradar.com/ausschreibung/739b446d-65d9-4b43-86ee-404571611ad0/
END:VEVENT
BEGIN:VEVENT
UID:72325c338efb4ee9@ausschreibungsradar.com
DTSTAMP:20260425T102519Z
DTSTART;VALUE=DATE:20260129
DTEND;VALUE=DATE:20260129
SUMMARY:Vertragsmodifikation — DSTW NB Rostock Serie 01 - Abschnitt Bentwisch Bau+OLA
DESCRIPTION:Phase: Vertragsmodifikation | Beschreibung: Änderung am bestehenden Vertrag nach Zuschlag. | Link: https://ausschreibungsradar.com/ausschreibung/30f72ff0-9628-4b60-888e-3c483be31252/
URL:https://ausschreibungsradar.com/ausschreibung/30f72ff0-9628-4b60-888e-3c483be31252/
END:VEVENT
BEGIN:VEVENT
UID:d1642d5b2d79c422@ausschreibungsradar.com
DTSTAMP:20260425T102519Z
DTSTART;VALUE=DATE:20260218
DTEND;VALUE=DATE:20260218
SUMMARY:Vertragsmodifikation — DSTW NB Rostock Serie 01 - Abschnitt Bentwisch Bau+OLA
DESCRIPTION:Phase: Vertragsmodifikation | Beschreibung: Änderung am bestehenden Vertrag nach Zuschlag. | Link: https://ausschreibungsradar.com/ausschreibung/355c0181-e4a6-4241-96a7-5df9e0e2fc81/
URL:https://ausschreibungsradar.com/ausschreibung/355c0181-e4a6-4241-96a7-5df9e0e2fc81/
END:VEVENT
BEGIN:VEVENT
UID:4afa0f29feae4174@ausschreibungsradar.com
DTSTAMP:20260425T102519Z
DTSTART;VALUE=DATE:20260224
DTEND;VALUE=DATE:20260224
SUMMARY:Vertragsmodifikation — DSTW NB Rostock Serie 01 - Abschnitt Bentwisch Bau+OLA
DESCRIPTION:Phase: Vertragsmodifikation | Beschreibung: Änderung am bestehenden Vertrag nach Zuschlag. | Link: https://ausschreibungsradar.com/ausschreibung/35a69fa7-f125-4d00-9c07-1d4a812f9e1f/
URL:https://ausschreibungsradar.com/ausschreibung/35a69fa7-f125-4d00-9c07-1d4a812f9e1f/
END:VEVENT
BEGIN:VEVENT
UID:fad26d59b60da505@ausschreibungsradar.com
DTSTAMP:20260425T102519Z
DTSTART;VALUE=DATE:20260410
DTEND;VALUE=DATE:20260410
SUMMARY:Vertragsänderung — DSTW NB Rostock Serie 01 - Abschnitt Bentwisch Bau+OLA
DESCRIPTION:Phase: Vertragsänderung | Beschreibung: Zusätzliche Lieferungen/Leistungen beauftragt | Link: https://ausschreibungsradar.com/ausschreibung/2ee4bbed-560b-431b-89be-59f1ec071e5c/
URL:https://ausschreibungsradar.com/ausschreibung/2ee4bbed-560b-431b-89be-59f1ec071e5c/
END:VEVENT
BEGIN:VEVENT
UID:14aa2921fd3e7d81@ausschreibungsradar.com
DTSTAMP:20260425T102519Z
DTSTART;VALUE=DATE:20260410
DTEND;VALUE=DATE:20260410
SUMMARY:Vertragsmodifikation — DSTW NB Rostock Serie 01 - Abschnitt Bentwisch Bau+OLA
DESCRIPTION:Phase: Vertragsmodifikation | Beschreibung: Änderung am bestehenden Vertrag nach Zuschlag. | Link: https://ausschreibungsradar.com/ausschreibung/dd3a8dd7-7874-4d94-a25f-11de8f8bedf3/
URL:https://ausschreibungsradar.com/ausschreibung/dd3a8dd7-7874-4d94-a25f-11de8f8bedf3/
END:VEVENT
END:VCALENDAR
