BEGIN:VCALENDAR
VERSION:2.0
PRODID:-//AusschreibungsRadar//Timeline//DE
CALSCALE:GREGORIAN
METHOD:PUBLISH
X-WR-CALNAME:Projekt Rahmenvertrag über Wirtschaftsprüferleistungen
X-WR-TIMEZONE:Europe/Berlin
BEGIN:VEVENT
UID:6107a40e91b8d4bb@ausschreibungsradar.com
DTSTAMP:20260424T174354Z
DTSTART;VALUE=DATE:20250715
DTEND;VALUE=DATE:20250715
SUMMARY:Ausschreibung — Rahmenvertrag über Wirtschaftsprüferleistungen
DESCRIPTION:Phase: Ausschreibung | Beschreibung: Angebote werden eingeholt | Link: https://ausschreibungsradar.com/ausschreibung/2efc6664-b86e-45b6-a93e-518c52d85ecd/
URL:https://ausschreibungsradar.com/ausschreibung/2efc6664-b86e-45b6-a93e-518c52d85ecd/
END:VEVENT
BEGIN:VEVENT
UID:f78d825da29e0b4a@ausschreibungsradar.com
DTSTAMP:20260424T174354Z
DTSTART;VALUE=DATE:20260116
DTEND;VALUE=DATE:20260116
SUMMARY:Vergabeergebnis — Rahmenvertrag über Wirtschaftsprüferleistungen
DESCRIPTION:Phase: Vergabeergebnis | Beschreibung: Auftrag wurde zugeschlagen | Link: https://ausschreibungsradar.com/ausschreibung/c53f9395-1320-493d-8cb8-4b2dbe6cf92f/
URL:https://ausschreibungsradar.com/ausschreibung/c53f9395-1320-493d-8cb8-4b2dbe6cf92f/
END:VEVENT
END:VCALENDAR
