BEGIN:VCALENDAR
VERSION:2.0
PRODID:-//AusschreibungsRadar//Timeline//DE
CALSCALE:GREGORIAN
METHOD:PUBLISH
X-WR-CALNAME:Projekt Erweiterung und Sanierung Schillerschule Lahnstein; Los 2 - 
X-WR-TIMEZONE:Europe/Berlin
BEGIN:VEVENT
UID:4707a53373e24df0@ausschreibungsradar.com
DTSTAMP:20260424T062225Z
DTSTART;VALUE=DATE:20240701
DTEND;VALUE=DATE:20240701
SUMMARY:Zuschlag — Erweiterung und Sanierung Schillerschule Lahnstein\; Los 2 - 
DESCRIPTION:Phase: Zuschlag | Beschreibung: Vergabeergebnis — Auftrag wurde erteilt oder Verfahren beendet. | Link: https://ausschreibungsradar.com/ausschreibung/2f457cee-95d6-4eec-b5be-46b66b4ed1fd/
URL:https://ausschreibungsradar.com/ausschreibung/2f457cee-95d6-4eec-b5be-46b66b4ed1fd/
END:VEVENT
BEGIN:VEVENT
UID:cff7c4348523d9d1@ausschreibungsradar.com
DTSTAMP:20260424T062225Z
DTSTART;VALUE=DATE:20240703
DTEND;VALUE=DATE:20240703
SUMMARY:Zuschlag — Erweiterung und Sanierung Schillerschule Lahnstein\; Los 2 - 
DESCRIPTION:Phase: Zuschlag | Beschreibung: Vergabeergebnis — Auftrag wurde erteilt oder Verfahren beendet. | Link: https://ausschreibungsradar.com/ausschreibung/a4d807ab-5ae8-44dd-9e4a-f1077bd0e2d2/
URL:https://ausschreibungsradar.com/ausschreibung/a4d807ab-5ae8-44dd-9e4a-f1077bd0e2d2/
END:VEVENT
END:VCALENDAR
