BEGIN:VCALENDAR
VERSION:2.0
PRODID:-//AusschreibungsRadar//Timeline//DE
CALSCALE:GREGORIAN
METHOD:PUBLISH
X-WR-CALNAME:Projekt S/4HANA - Technische Vorstudie SAP Core und IS-U
X-WR-TIMEZONE:Europe/Berlin
BEGIN:VEVENT
UID:bfc8f2091bfd270f@ausschreibungsradar.com
DTSTAMP:20260424T151712Z
DTSTART;VALUE=DATE:20240723
DTEND;VALUE=DATE:20240723
SUMMARY:Angebotsfrist — S/4HANA - Technische Vorstudie SAP Core und IS-U
DESCRIPTION:Phase: Ausschreibung | Beschreibung: Angebote werden eingeholt | Link: https://ausschreibungsradar.com/ausschreibung/2fd0eeb1-6d0c-48d8-a92f-750623f36a5f/
URL:https://ausschreibungsradar.com/ausschreibung/2fd0eeb1-6d0c-48d8-a92f-750623f36a5f/
END:VEVENT
BEGIN:VEVENT
UID:181a826015606a76@ausschreibungsradar.com
DTSTAMP:20260424T151712Z
DTSTART;VALUE=DATE:20250206
DTEND;VALUE=DATE:20250206
SUMMARY:Vergabeergebnis — S/4HANA - Technische Vorstudie SAP Core und IS-U
DESCRIPTION:Phase: Vergabeergebnis | Beschreibung: Auftrag wurde zugeschlagen | Link: https://ausschreibungsradar.com/ausschreibung/ccac31ac-6eee-4471-9c47-a7628c07f92c/
URL:https://ausschreibungsradar.com/ausschreibung/ccac31ac-6eee-4471-9c47-a7628c07f92c/
END:VEVENT
END:VCALENDAR
