BEGIN:VCALENDAR
VERSION:2.0
PRODID:-//AusschreibungsRadar//Timeline//DE
CALSCALE:GREGORIAN
METHOD:PUBLISH
X-WR-CALNAME:Projekt Beschaffung von Komponenten für die Satellitenkommunikation
X-WR-TIMEZONE:Europe/Berlin
BEGIN:VEVENT
UID:e0e36a823fd9b389@ausschreibungsradar.com
DTSTAMP:20260424T080717Z
DTSTART;VALUE=DATE:20260225
DTEND;VALUE=DATE:20260225
SUMMARY:Ausschreibung — Beschaffung von Komponenten für die Satellitenkommunikation
DESCRIPTION:Phase: Ausschreibung | Beschreibung: Angebote werden eingeholt | Link: https://ausschreibungsradar.com/ausschreibung/86cb964a-b57d-47ae-bbab-a252ae8a53db/
URL:https://ausschreibungsradar.com/ausschreibung/86cb964a-b57d-47ae-bbab-a252ae8a53db/
END:VEVENT
BEGIN:VEVENT
UID:58753595046d3f19@ausschreibungsradar.com
DTSTAMP:20260424T080717Z
DTSTART;VALUE=DATE:20260407
DTEND;VALUE=DATE:20260407
SUMMARY:Ausschreibung — Beschaffung von Komponenten für die Satellitenkommunikation
DESCRIPTION:Phase: Ausschreibung | Beschreibung: Offizielle Ausschreibung mit Bieterfrist. | Link: https://ausschreibungsradar.com/ausschreibung/25201408/
URL:https://ausschreibungsradar.com/ausschreibung/25201408/
END:VEVENT
BEGIN:VEVENT
UID:66a629667b89292f@ausschreibungsradar.com
DTSTAMP:20260424T080717Z
DTSTART;VALUE=DATE:20260421
DTEND;VALUE=DATE:20260421
SUMMARY:Vergabeergebnis — Beschaffung von Komponenten für die Satellitenkommunikation
DESCRIPTION:Phase: Vergabeergebnis | Beschreibung: Auftrag wurde zugeschlagen | Link: https://ausschreibungsradar.com/ausschreibung/30ed9ef1-167d-45dc-8d64-970ea3398da2/
URL:https://ausschreibungsradar.com/ausschreibung/30ed9ef1-167d-45dc-8d64-970ea3398da2/
END:VEVENT
END:VCALENDAR
