BEGIN:VCALENDAR
VERSION:2.0
PRODID:-//AusschreibungsRadar//Timeline//DE
CALSCALE:GREGORIAN
METHOD:PUBLISH
X-WR-CALNAME:Projekt SL 105-24O Unterhalts- und Grundreinigung für den Landkreis 
X-WR-TIMEZONE:Europe/Berlin
BEGIN:VEVENT
UID:4a4e8d70dcb0c786@ausschreibungsradar.com
DTSTAMP:20260423T230348Z
DTSTART;VALUE=DATE:20241217
DTEND;VALUE=DATE:20241217
SUMMARY:Angebotsfrist — SL 105-24O Unterhalts- und Grundreinigung für den Landkreis 
DESCRIPTION:Phase: Ausschreibung | Beschreibung: Angebote werden eingeholt | Link: https://ausschreibungsradar.com/ausschreibung/313c391b-7af3-4fbd-b1cc-c32f2a40c836/
URL:https://ausschreibungsradar.com/ausschreibung/313c391b-7af3-4fbd-b1cc-c32f2a40c836/
END:VEVENT
BEGIN:VEVENT
UID:f216dffcc8b3580b@ausschreibungsradar.com
DTSTAMP:20260423T230348Z
DTSTART;VALUE=DATE:20250328
DTEND;VALUE=DATE:20250328
SUMMARY:Vergabeergebnis — SL 105-24O Unterhalts- und Grundreinigung für den Landkreis 
DESCRIPTION:Phase: Vergabeergebnis | Beschreibung: Auftrag wurde zugeschlagen | Link: https://ausschreibungsradar.com/ausschreibung/7a693fb8-452a-4631-beed-92408d2a836e/
URL:https://ausschreibungsradar.com/ausschreibung/7a693fb8-452a-4631-beed-92408d2a836e/
END:VEVENT
END:VCALENDAR
