BEGIN:VCALENDAR
VERSION:2.0
PRODID:-//AusschreibungsRadar//Timeline//DE
CALSCALE:GREGORIAN
METHOD:PUBLISH
X-WR-CALNAME:Projekt KHN - Gesamtmaßnahme | Baustelleneinrichtung Teil III
X-WR-TIMEZONE:Europe/Berlin
BEGIN:VEVENT
UID:d1c1784cafad4bd0@ausschreibungsradar.com
DTSTAMP:20260426T003052Z
DTSTART;VALUE=DATE:20250605
DTEND;VALUE=DATE:20250605
SUMMARY:Angebotsfrist — KHN - Gesamtmaßnahme | Baustelleneinrichtung Teil III
DESCRIPTION:Phase: Ausschreibung | Beschreibung: Angebote werden eingeholt | Link: https://ausschreibungsradar.com/ausschreibung/322afbf2-437a-467c-a6e7-b553afebccf0/
URL:https://ausschreibungsradar.com/ausschreibung/322afbf2-437a-467c-a6e7-b553afebccf0/
END:VEVENT
BEGIN:VEVENT
UID:37cd9d3a82e3a3a5@ausschreibungsradar.com
DTSTAMP:20260426T003052Z
DTSTART;VALUE=DATE:20250717
DTEND;VALUE=DATE:20250717
SUMMARY:Vergabeergebnis — KHN - Gesamtmaßnahme | Baustelleneinrichtung Teil III
DESCRIPTION:Phase: Vergabeergebnis | Beschreibung: Auftrag wurde zugeschlagen | Link: https://ausschreibungsradar.com/ausschreibung/6a57282d-d95d-4708-816c-d1b63712a273/
URL:https://ausschreibungsradar.com/ausschreibung/6a57282d-d95d-4708-816c-d1b63712a273/
END:VEVENT
END:VCALENDAR
