BEGIN:VCALENDAR
VERSION:2.0
PRODID:-//AusschreibungsRadar//Timeline//DE
CALSCALE:GREGORIAN
METHOD:PUBLISH
X-WR-CALNAME:Projekt Gardelegen-Otto Reutter Grundschule- Sanierung Los 1 Erweite
X-WR-TIMEZONE:Europe/Berlin
BEGIN:VEVENT
UID:1281c25db9e10997@ausschreibungsradar.com
DTSTAMP:20260425T033537Z
DTSTART;VALUE=DATE:20260330
DTEND;VALUE=DATE:20260330
SUMMARY:Ausschreibung — Gardelegen-Otto Reutter Grundschule- Sanierung Los 1 Erweite
DESCRIPTION:Phase: Ausschreibung | Beschreibung: Offizielle Ausschreibung mit Bieterfrist. | Link: https://ausschreibungsradar.com/ausschreibung/25175026/
URL:https://ausschreibungsradar.com/ausschreibung/25175026/
END:VEVENT
BEGIN:VEVENT
UID:cc5633ff8c150df8@ausschreibungsradar.com
DTSTAMP:20260425T033537Z
DTSTART;VALUE=DATE:20260416
DTEND;VALUE=DATE:20260416
SUMMARY:Angebotsfrist — Gardelegen-Otto Reutter Grundschule- Sanierung Los 1 Erweite
DESCRIPTION:Phase: Ausschreibung | Beschreibung: Angebote werden eingeholt | Link: https://ausschreibungsradar.com/ausschreibung/32538bb6-7913-4c13-a771-4d062e4e11e1/
URL:https://ausschreibungsradar.com/ausschreibung/32538bb6-7913-4c13-a771-4d062e4e11e1/
END:VEVENT
END:VCALENDAR
