BEGIN:VCALENDAR
VERSION:2.0
PRODID:-//AusschreibungsRadar//Timeline//DE
CALSCALE:GREGORIAN
METHOD:PUBLISH
X-WR-CALNAME:Projekt Wäschedienstleistungen
X-WR-TIMEZONE:Europe/Berlin
BEGIN:VEVENT
UID:9ae5eac2c97c21c2@ausschreibungsradar.com
DTSTAMP:20260425T170408Z
DTSTART;VALUE=DATE:20250512
DTEND;VALUE=DATE:20250512
SUMMARY:Zuschlag — Wäschedienstleistungen
DESCRIPTION:Phase: Zuschlag | Beschreibung: Vergabeergebnis — Auftrag wurde erteilt oder Verfahren beendet. | Link: https://ausschreibungsradar.com/ausschreibung/2ae09325-db9c-43e4-af86-b3f163ab43c3/
URL:https://ausschreibungsradar.com/ausschreibung/2ae09325-db9c-43e4-af86-b3f163ab43c3/
END:VEVENT
BEGIN:VEVENT
UID:3f015f31add8f988@ausschreibungsradar.com
DTSTAMP:20260425T170408Z
DTSTART;VALUE=DATE:20250521
DTEND;VALUE=DATE:20250521
SUMMARY:Ausschreibung — Wäschedienstleistungen
DESCRIPTION:Phase: Ausschreibung | Beschreibung: Angebote werden eingeholt | Link: https://ausschreibungsradar.com/ausschreibung/328198a3-3585-45a7-a945-d477ef45e8ca/
URL:https://ausschreibungsradar.com/ausschreibung/328198a3-3585-45a7-a945-d477ef45e8ca/
END:VEVENT
BEGIN:VEVENT
UID:65475c5bb5cda28d@ausschreibungsradar.com
DTSTAMP:20260425T170408Z
DTSTART;VALUE=DATE:20250521
DTEND;VALUE=DATE:20250521
SUMMARY:Ausschreibung — Wäschedienstleistungen
DESCRIPTION:Phase: Ausschreibung | Beschreibung: Offizielle Ausschreibung mit Bieterfrist. | Link: https://ausschreibungsradar.com/ausschreibung/bc064561-2456-49d1-a3a3-600445e4666a/
URL:https://ausschreibungsradar.com/ausschreibung/bc064561-2456-49d1-a3a3-600445e4666a/
END:VEVENT
BEGIN:VEVENT
UID:0416d3a5916a19c4@ausschreibungsradar.com
DTSTAMP:20260425T170408Z
DTSTART;VALUE=DATE:20250827
DTEND;VALUE=DATE:20250827
SUMMARY:Vergabeergebnis — Wäschedienstleistungen
DESCRIPTION:Phase: Vergabeergebnis | Beschreibung: Auftrag wurde zugeschlagen | Link: https://ausschreibungsradar.com/ausschreibung/1e8d46d4-377a-453f-bc1a-d57ab398b23e/
URL:https://ausschreibungsradar.com/ausschreibung/1e8d46d4-377a-453f-bc1a-d57ab398b23e/
END:VEVENT
END:VCALENDAR
