BEGIN:VCALENDAR
VERSION:2.0
PRODID:-//AusschreibungsRadar//Timeline//DE
CALSCALE:GREGORIAN
METHOD:PUBLISH
X-WR-CALNAME:Projekt Vergabe von Fachplanungsleistungen HLSK-Planung
X-WR-TIMEZONE:Europe/Berlin
BEGIN:VEVENT
UID:ac54d444f1539047@ausschreibungsradar.com
DTSTAMP:20260424T131229Z
DTSTART;VALUE=DATE:20250526
DTEND;VALUE=DATE:20250526
SUMMARY:Ausschreibung — Vergabe von Fachplanungsleistungen HLSK-Planung
DESCRIPTION:Phase: Ausschreibung | Beschreibung: Offizielle Ausschreibung mit Bieterfrist. | Link: https://ausschreibungsradar.com/ausschreibung/239c5d38-ca34-4759-80ce-5a6ebf295c08/
URL:https://ausschreibungsradar.com/ausschreibung/239c5d38-ca34-4759-80ce-5a6ebf295c08/
END:VEVENT
BEGIN:VEVENT
UID:74a20326b840aa80@ausschreibungsradar.com
DTSTAMP:20260424T131229Z
DTSTART;VALUE=DATE:20250530
DTEND;VALUE=DATE:20250530
SUMMARY:Ausschreibung — Vergabe von Fachplanungsleistungen HLSK-Planung
DESCRIPTION:Phase: Ausschreibung | Beschreibung: Offizielle Ausschreibung mit Bieterfrist. | Link: https://ausschreibungsradar.com/ausschreibung/33a2c4fa-2e37-4ad4-82ad-80f36bc91441/
URL:https://ausschreibungsradar.com/ausschreibung/33a2c4fa-2e37-4ad4-82ad-80f36bc91441/
END:VEVENT
BEGIN:VEVENT
UID:4f1936db5a851bea@ausschreibungsradar.com
DTSTAMP:20260424T131229Z
DTSTART;VALUE=DATE:20250530
DTEND;VALUE=DATE:20250530
SUMMARY:Ausschreibung — Vergabe von Fachplanungsleistungen HLSK-Planung
DESCRIPTION:Phase: Ausschreibung | Beschreibung: Offizielle Ausschreibung mit Bieterfrist. | Link: https://ausschreibungsradar.com/ausschreibung/08852582-c632-42e4-a227-f2489433462f/
URL:https://ausschreibungsradar.com/ausschreibung/08852582-c632-42e4-a227-f2489433462f/
END:VEVENT
END:VCALENDAR
