BEGIN:VCALENDAR
VERSION:2.0
PRODID:-//AusschreibungsRadar//Timeline//DE
CALSCALE:GREGORIAN
METHOD:PUBLISH
X-WR-CALNAME:Projekt Erdgaslieferung für die Regiebetriebe des Bezirks Niederbaye
X-WR-TIMEZONE:Europe/Berlin
BEGIN:VEVENT
UID:3dac9c741b259cf8@ausschreibungsradar.com
DTSTAMP:20260424T230858Z
DTSTART;VALUE=DATE:20251106
DTEND;VALUE=DATE:20251106
SUMMARY:Angebotsfrist — Erdgaslieferung für die Regiebetriebe des Bezirks Niederbaye
DESCRIPTION:Phase: Ausschreibung | Beschreibung: Angebote werden eingeholt | Link: https://ausschreibungsradar.com/ausschreibung/34646850-0f7a-41c2-8a77-ee450ec7c396/
URL:https://ausschreibungsradar.com/ausschreibung/34646850-0f7a-41c2-8a77-ee450ec7c396/
END:VEVENT
BEGIN:VEVENT
UID:753bdf4c429af88c@ausschreibungsradar.com
DTSTAMP:20260424T230858Z
DTSTART;VALUE=DATE:20251118
DTEND;VALUE=DATE:20251118
SUMMARY:Vergabeergebnis — Erdgaslieferung für die Regiebetriebe des Bezirks Niederbaye
DESCRIPTION:Phase: Vergabeergebnis | Beschreibung: Auftrag wurde zugeschlagen | Link: https://ausschreibungsradar.com/ausschreibung/23507dce-ab48-41eb-81ea-04ff6c8bc638/
URL:https://ausschreibungsradar.com/ausschreibung/23507dce-ab48-41eb-81ea-04ff6c8bc638/
END:VEVENT
END:VCALENDAR
