BEGIN:VCALENDAR
VERSION:2.0
PRODID:-//AusschreibungsRadar//Timeline//DE
CALSCALE:GREGORIAN
METHOD:PUBLISH
X-WR-CALNAME:Projekt Erweiterungsneubau Grundschule Bornheim - Fliesenarbeiten
X-WR-TIMEZONE:Europe/Berlin
BEGIN:VEVENT
UID:2a40e34c39aaf203@ausschreibungsradar.com
DTSTAMP:20260425T202343Z
DTSTART;VALUE=DATE:20250226
DTEND;VALUE=DATE:20250226
SUMMARY:Ausschreibung — Erweiterungsneubau Grundschule Bornheim - Fliesenarbeiten
DESCRIPTION:Phase: Ausschreibung | Beschreibung: Offizielle Ausschreibung mit Bieterfrist. | Link: https://ausschreibungsradar.com/ausschreibung/4e04eb06-9900-4e3c-955e-d97f87a62387/
URL:https://ausschreibungsradar.com/ausschreibung/4e04eb06-9900-4e3c-955e-d97f87a62387/
END:VEVENT
BEGIN:VEVENT
UID:269ccc08acd7137f@ausschreibungsradar.com
DTSTAMP:20260425T202343Z
DTSTART;VALUE=DATE:20250417
DTEND;VALUE=DATE:20250417
SUMMARY:Angebotsfrist — Erweiterungsneubau Grundschule Bornheim - Fliesenarbeiten
DESCRIPTION:Phase: Ausschreibung | Beschreibung: Angebote werden eingeholt | Link: https://ausschreibungsradar.com/ausschreibung/34d1d26b-6e6a-4ed5-8fdc-28aaa5d5c20c/
URL:https://ausschreibungsradar.com/ausschreibung/34d1d26b-6e6a-4ed5-8fdc-28aaa5d5c20c/
END:VEVENT
BEGIN:VEVENT
UID:22e502a4bfa2b304@ausschreibungsradar.com
DTSTAMP:20260425T202343Z
DTSTART;VALUE=DATE:20250321
DTEND;VALUE=DATE:20250321
SUMMARY:Zuschlag — Erweiterungsneubau Grundschule Bornheim - Fliesenarbeiten
DESCRIPTION:Phase: Zuschlag | Beschreibung: Vergabeergebnis — Auftrag wurde erteilt oder Verfahren beendet. | Link: https://ausschreibungsradar.com/ausschreibung/172bae37-3dab-4db3-8401-f02a067ba965/
URL:https://ausschreibungsradar.com/ausschreibung/172bae37-3dab-4db3-8401-f02a067ba965/
END:VEVENT
BEGIN:VEVENT
UID:c6477bdda3200437@ausschreibungsradar.com
DTSTAMP:20260425T202343Z
DTSTART;VALUE=DATE:20250717
DTEND;VALUE=DATE:20250717
SUMMARY:Vergabeergebnis — Erweiterungsneubau Grundschule Bornheim - Fliesenarbeiten
DESCRIPTION:Phase: Vergabeergebnis | Beschreibung: Auftrag wurde zugeschlagen | Link: https://ausschreibungsradar.com/ausschreibung/7028499f-44f3-4731-bfd4-f1fb1071735e/
URL:https://ausschreibungsradar.com/ausschreibung/7028499f-44f3-4731-bfd4-f1fb1071735e/
END:VEVENT
END:VCALENDAR
