BEGIN:VCALENDAR
VERSION:2.0
PRODID:-//AusschreibungsRadar//Timeline//DE
CALSCALE:GREGORIAN
METHOD:PUBLISH
X-WR-CALNAME:Projekt Umbau und Erweiterung KiTa Bechtelsberger Strolche in Alsfel
X-WR-TIMEZONE:Europe/Berlin
BEGIN:VEVENT
UID:dcb081a7d852bb3a@ausschreibungsradar.com
DTSTAMP:20260425T110144Z
DTSTART;VALUE=DATE:20260105
DTEND;VALUE=DATE:20260105
SUMMARY:Ausschreibung — Umbau und Erweiterung KiTa Bechtelsberger Strolche in Alsfel
DESCRIPTION:Phase: Ausschreibung | Beschreibung: Angebote werden eingeholt | Link: https://ausschreibungsradar.com/ausschreibung/35248807-af2e-4e8c-9242-5ef0adefc5a0/
URL:https://ausschreibungsradar.com/ausschreibung/35248807-af2e-4e8c-9242-5ef0adefc5a0/
END:VEVENT
BEGIN:VEVENT
UID:9fb4c9927cf07dd9@ausschreibungsradar.com
DTSTAMP:20260425T110144Z
DTSTART;VALUE=DATE:20260105
DTEND;VALUE=DATE:20260105
SUMMARY:Ausschreibung — Umbau und Erweiterung KiTa Bechtelsberger Strolche in Alsfel
DESCRIPTION:Phase: Ausschreibung | Beschreibung: Offizielle Ausschreibung mit Bieterfrist. | Link: https://ausschreibungsradar.com/ausschreibung/a5a5d081-caae-4d6b-9af8-0fff152fbcf2/
URL:https://ausschreibungsradar.com/ausschreibung/a5a5d081-caae-4d6b-9af8-0fff152fbcf2/
END:VEVENT
BEGIN:VEVENT
UID:61bfb2f685739e3d@ausschreibungsradar.com
DTSTAMP:20260425T110144Z
DTSTART;VALUE=DATE:20260105
DTEND;VALUE=DATE:20260105
SUMMARY:Ausschreibung — Umbau und Erweiterung KiTa Bechtelsberger Strolche in Alsfel
DESCRIPTION:Phase: Ausschreibung | Beschreibung: Offizielle Ausschreibung mit Bieterfrist. | Link: https://ausschreibungsradar.com/ausschreibung/7981c35d-e2fb-483a-a7bb-e164921e1707/
URL:https://ausschreibungsradar.com/ausschreibung/7981c35d-e2fb-483a-a7bb-e164921e1707/
END:VEVENT
BEGIN:VEVENT
UID:ba293ff95f6da9fa@ausschreibungsradar.com
DTSTAMP:20260425T110144Z
DTSTART;VALUE=DATE:20260105
DTEND;VALUE=DATE:20260105
SUMMARY:Ausschreibung — Umbau und Erweiterung KiTa Bechtelsberger Strolche in Alsfel
DESCRIPTION:Phase: Ausschreibung | Beschreibung: Offizielle Ausschreibung mit Bieterfrist. | Link: https://ausschreibungsradar.com/ausschreibung/667b3b5c-7b2c-40d9-9036-3c68271e33c0/
URL:https://ausschreibungsradar.com/ausschreibung/667b3b5c-7b2c-40d9-9036-3c68271e33c0/
END:VEVENT
BEGIN:VEVENT
UID:b07e49c2fb55f918@ausschreibungsradar.com
DTSTAMP:20260425T110144Z
DTSTART;VALUE=DATE:20260105
DTEND;VALUE=DATE:20260105
SUMMARY:Ausschreibung — Umbau und Erweiterung KiTa Bechtelsberger Strolche in Alsfel
DESCRIPTION:Phase: Ausschreibung | Beschreibung: Offizielle Ausschreibung mit Bieterfrist. | Link: https://ausschreibungsradar.com/ausschreibung/788912d9-d332-4071-baec-436f763e5722/
URL:https://ausschreibungsradar.com/ausschreibung/788912d9-d332-4071-baec-436f763e5722/
END:VEVENT
END:VCALENDAR
