BEGIN:VCALENDAR
VERSION:2.0
PRODID:-//AusschreibungsRadar//Timeline//DE
CALSCALE:GREGORIAN
METHOD:PUBLISH
X-WR-CALNAME:Projekt S21, PFA 1.5, Neubau Entrauchungsbauwerk Rettungsausfahrt Pr
X-WR-TIMEZONE:Europe/Berlin
BEGIN:VEVENT
UID:95d06fe4b0386b12@ausschreibungsradar.com
DTSTAMP:20260426T004639Z
DTSTART;VALUE=DATE:20250404
DTEND;VALUE=DATE:20250404
SUMMARY:Vertragsmodifikation — S21\, PFA 1.5\, Neubau Entrauchungsbauwerk Rettungsausfahrt Pr
DESCRIPTION:Phase: Vertragsmodifikation | Beschreibung: Änderung am bestehenden Vertrag nach Zuschlag. | Link: https://ausschreibungsradar.com/ausschreibung/56670fb5-bfde-4528-b019-7157cd85cb11/
URL:https://ausschreibungsradar.com/ausschreibung/56670fb5-bfde-4528-b019-7157cd85cb11/
END:VEVENT
BEGIN:VEVENT
UID:d27b9e96d1421ef0@ausschreibungsradar.com
DTSTAMP:20260426T004639Z
DTSTART;VALUE=DATE:20250520
DTEND;VALUE=DATE:20250520
SUMMARY:Vertragsmodifikation — S21\, PFA 1.5\, Neubau Entrauchungsbauwerk Rettungsausfahrt Pr
DESCRIPTION:Phase: Vertragsmodifikation | Beschreibung: Änderung am bestehenden Vertrag nach Zuschlag. | Link: https://ausschreibungsradar.com/ausschreibung/cf5486c0-88a1-4e1a-a7e4-363e57436a02/
URL:https://ausschreibungsradar.com/ausschreibung/cf5486c0-88a1-4e1a-a7e4-363e57436a02/
END:VEVENT
BEGIN:VEVENT
UID:9a213cddfdaeb738@ausschreibungsradar.com
DTSTAMP:20260426T004639Z
DTSTART;VALUE=DATE:20250523
DTEND;VALUE=DATE:20250523
SUMMARY:Vertragsmodifikation — S21\, PFA 1.5\, Neubau Entrauchungsbauwerk Rettungsausfahrt Pr
DESCRIPTION:Phase: Vertragsmodifikation | Beschreibung: Änderung am bestehenden Vertrag nach Zuschlag. | Link: https://ausschreibungsradar.com/ausschreibung/bc1857b2-234a-4c75-ae7b-e49fcf0fd20c/
URL:https://ausschreibungsradar.com/ausschreibung/bc1857b2-234a-4c75-ae7b-e49fcf0fd20c/
END:VEVENT
BEGIN:VEVENT
UID:bb3d67a3a5e772c7@ausschreibungsradar.com
DTSTAMP:20260426T004639Z
DTSTART;VALUE=DATE:20250813
DTEND;VALUE=DATE:20250813
SUMMARY:Vertragsmodifikation — S21\, PFA 1.5\, Neubau Entrauchungsbauwerk Rettungsausfahrt Pr
DESCRIPTION:Phase: Vertragsmodifikation | Beschreibung: Änderung am bestehenden Vertrag nach Zuschlag. | Link: https://ausschreibungsradar.com/ausschreibung/848936fe-83a8-45ff-a816-98047646bcc9/
URL:https://ausschreibungsradar.com/ausschreibung/848936fe-83a8-45ff-a816-98047646bcc9/
END:VEVENT
BEGIN:VEVENT
UID:f10ac936fa5965cc@ausschreibungsradar.com
DTSTAMP:20260426T004639Z
DTSTART;VALUE=DATE:20260415
DTEND;VALUE=DATE:20260415
SUMMARY:Vertragsänderung — S21\, PFA 1.5\, Neubau Entrauchungsbauwerk Rettungsausfahrt Pr
DESCRIPTION:Phase: Vertragsänderung | Beschreibung: Zusätzliche Lieferungen/Leistungen beauftragt | Link: https://ausschreibungsradar.com/ausschreibung/359d1192-2ecb-4970-b5d6-470bdf492aeb/
URL:https://ausschreibungsradar.com/ausschreibung/359d1192-2ecb-4970-b5d6-470bdf492aeb/
END:VEVENT
BEGIN:VEVENT
UID:9daa8fa0669cc3cc@ausschreibungsradar.com
DTSTAMP:20260426T004639Z
DTSTART;VALUE=DATE:20260415
DTEND;VALUE=DATE:20260415
SUMMARY:Vertragsmodifikation — S21\, PFA 1.5\, Neubau Entrauchungsbauwerk Rettungsausfahrt Pr
DESCRIPTION:Phase: Vertragsmodifikation | Beschreibung: Änderung am bestehenden Vertrag nach Zuschlag. | Link: https://ausschreibungsradar.com/ausschreibung/896c0b3b-cf51-4d8f-9329-577416bfd7b4/
URL:https://ausschreibungsradar.com/ausschreibung/896c0b3b-cf51-4d8f-9329-577416bfd7b4/
END:VEVENT
END:VCALENDAR
