BEGIN:VCALENDAR
VERSION:2.0
PRODID:-//AusschreibungsRadar//Timeline//DE
CALSCALE:GREGORIAN
METHOD:PUBLISH
X-WR-CALNAME:Projekt Output-Management-Systems (OMS) - Markterkundung / Vorinform
X-WR-TIMEZONE:Europe/Berlin
BEGIN:VEVENT
UID:9031b9c5fb3ae8e2@ausschreibungsradar.com
DTSTAMP:20260426T041853Z
DTSTART;VALUE=DATE:20260227
DTEND;VALUE=DATE:20260227
SUMMARY:Vorinformation — Output-Management-Systems (OMS) - Markterkundung / Vorinform
DESCRIPTION:Phase: Vorinformation | Beschreibung: Vorab-Ankündigung der Vergabestelle — keine verbindliche Ausschreibung. | Link: https://ausschreibungsradar.com/ausschreibung/366ca75c-a7c9-48d1-ad99-b721fef58acf
URL:https://ausschreibungsradar.com/ausschreibung/366ca75c-a7c9-48d1-ad99-b721fef58acf/
END:VEVENT
BEGIN:VEVENT
UID:6b071f768c4f4f83@ausschreibungsradar.com
DTSTAMP:20260426T041853Z
DTSTART;VALUE=DATE:20260227
DTEND;VALUE=DATE:20260227
SUMMARY:Vorinformation — Output-Management-Systems (OMS) - Markterkundung / Vorinform
DESCRIPTION:Phase: Vorinformation | Beschreibung: Vorab-Ankündigung der Vergabestelle — keine verbindliche Ausschreibung. | Link: https://ausschreibungsradar.com/ausschreibung/0c75f7b0-6618-4fd0-b336-1d4adbeee79b
URL:https://ausschreibungsradar.com/ausschreibung/0c75f7b0-6618-4fd0-b336-1d4adbeee79b/
END:VEVENT
END:VCALENDAR
