BEGIN:VCALENDAR
VERSION:2.0
PRODID:-//AusschreibungsRadar//Timeline//DE
CALSCALE:GREGORIAN
METHOD:PUBLISH
X-WR-CALNAME:Projekt Neubau Kindertagesstätte St. Nepomuk-Straße in Gerbrunn - Fa
X-WR-TIMEZONE:Europe/Berlin
BEGIN:VEVENT
UID:d402296bd6da6945@ausschreibungsradar.com
DTSTAMP:20260425T205946Z
DTSTART;VALUE=DATE:20231211
DTEND;VALUE=DATE:20231211
SUMMARY:Ausschreibung — Neubau Kindertagesstätte St. Nepomuk-Straße in Gerbrunn - Fa
DESCRIPTION:Phase: Ausschreibung | Beschreibung: Angebote werden eingeholt | Link: https://ausschreibungsradar.com/ausschreibung/367f3950-eb9f-4339-a3be-c08f943f57fe/
URL:https://ausschreibungsradar.com/ausschreibung/367f3950-eb9f-4339-a3be-c08f943f57fe/
END:VEVENT
BEGIN:VEVENT
UID:09e112aa16b8f4d0@ausschreibungsradar.com
DTSTAMP:20260425T205946Z
DTSTART;VALUE=DATE:20231211
DTEND;VALUE=DATE:20231211
SUMMARY:Ausschreibung — Neubau Kindertagesstätte St. Nepomuk-Straße in Gerbrunn - Fa
DESCRIPTION:Phase: Ausschreibung | Beschreibung: Offizielle Ausschreibung mit Bieterfrist. | Link: https://ausschreibungsradar.com/ausschreibung/f57068f8-4061-4de9-b3fe-65b36979cd03/
URL:https://ausschreibungsradar.com/ausschreibung/f57068f8-4061-4de9-b3fe-65b36979cd03/
END:VEVENT
BEGIN:VEVENT
UID:2e760c950bb1539e@ausschreibungsradar.com
DTSTAMP:20260425T205946Z
DTSTART;VALUE=DATE:20231211
DTEND;VALUE=DATE:20231211
SUMMARY:Ausschreibung — Neubau Kindertagesstätte St. Nepomuk-Straße in Gerbrunn - Fa
DESCRIPTION:Phase: Ausschreibung | Beschreibung: Offizielle Ausschreibung mit Bieterfrist. | Link: https://ausschreibungsradar.com/ausschreibung/178f3ea8-48cc-4dbe-8c9d-e7412b0a1e73/
URL:https://ausschreibungsradar.com/ausschreibung/178f3ea8-48cc-4dbe-8c9d-e7412b0a1e73/
END:VEVENT
BEGIN:VEVENT
UID:c65280d402ca363f@ausschreibungsradar.com
DTSTAMP:20260425T205946Z
DTSTART;VALUE=DATE:20231211
DTEND;VALUE=DATE:20231211
SUMMARY:Ausschreibung — Neubau Kindertagesstätte St. Nepomuk-Straße in Gerbrunn - Fa
DESCRIPTION:Phase: Ausschreibung | Beschreibung: Offizielle Ausschreibung mit Bieterfrist. | Link: https://ausschreibungsradar.com/ausschreibung/855d0911-5fc9-4a4f-9d89-b9d8ffe4d82a/
URL:https://ausschreibungsradar.com/ausschreibung/855d0911-5fc9-4a4f-9d89-b9d8ffe4d82a/
END:VEVENT
END:VCALENDAR
