BEGIN:VCALENDAR
VERSION:2.0
PRODID:-//AusschreibungsRadar//Timeline//DE
CALSCALE:GREGORIAN
METHOD:PUBLISH
X-WR-CALNAME:Projekt MZS "Arkona" - Werftinstandsetzung und Klasseerneuerung 2024
X-WR-TIMEZONE:Europe/Berlin
BEGIN:VEVENT
UID:f969ed743a1ad2b0@ausschreibungsradar.com
DTSTAMP:20260425T154445Z
DTSTART;VALUE=DATE:20241128
DTEND;VALUE=DATE:20241128
SUMMARY:Angebotsfrist — MZS "Arkona" - Werftinstandsetzung und Klasseerneuerung 2024
DESCRIPTION:Phase: Ausschreibung | Beschreibung: Angebote werden eingeholt | Link: https://ausschreibungsradar.com/ausschreibung/36c4d35f-10fd-4559-983b-4be2fd4922de/
URL:https://ausschreibungsradar.com/ausschreibung/36c4d35f-10fd-4559-983b-4be2fd4922de/
END:VEVENT
BEGIN:VEVENT
UID:3b817a9f6f44eee4@ausschreibungsradar.com
DTSTAMP:20260425T154445Z
DTSTART;VALUE=DATE:20240429
DTEND;VALUE=DATE:20240429
SUMMARY:Ausschreibung — MZS "Arkona" - Werftinstandsetzung und Klasseerneuerung 2024
DESCRIPTION:Phase: Ausschreibung | Beschreibung: Offizielle Ausschreibung mit Bieterfrist. | Link: https://ausschreibungsradar.com/ausschreibung/298ab966-4dde-450e-b4e5-d9156e48f0a8/
URL:https://ausschreibungsradar.com/ausschreibung/298ab966-4dde-450e-b4e5-d9156e48f0a8/
END:VEVENT
END:VCALENDAR
