BEGIN:VCALENDAR
VERSION:2.0
PRODID:-//AusschreibungsRadar//Timeline//DE
CALSCALE:GREGORIAN
METHOD:PUBLISH
X-WR-CALNAME:Projekt Fördertechnik
X-WR-TIMEZONE:Europe/Berlin
BEGIN:VEVENT
UID:0e5c33df550c54c1@ausschreibungsradar.com
DTSTAMP:20260425T034453Z
DTSTART;VALUE=DATE:20240404
DTEND;VALUE=DATE:20240404
SUMMARY:Angebotsfrist — Fördertechnik
DESCRIPTION:Phase: Ausschreibung | Beschreibung: Angebote werden eingeholt | Link: https://ausschreibungsradar.com/ausschreibung/378aee5b-8e07-4580-bf2a-841f9aa61948/
URL:https://ausschreibungsradar.com/ausschreibung/378aee5b-8e07-4580-bf2a-841f9aa61948/
END:VEVENT
END:VCALENDAR
