BEGIN:VCALENDAR
VERSION:2.0
PRODID:-//AusschreibungsRadar//Timeline//DE
CALSCALE:GREGORIAN
METHOD:PUBLISH
X-WR-CALNAME:Projekt Errichtung eines Feuerwehrgerätehauses mit Sportheim in Antw
X-WR-TIMEZONE:Europe/Berlin
BEGIN:VEVENT
UID:8005a1b6e27f35f6@ausschreibungsradar.com
DTSTAMP:20260424T223628Z
DTSTART;VALUE=DATE:20250701
DTEND;VALUE=DATE:20250701
SUMMARY:Ausschreibung — Errichtung eines Feuerwehrgerätehauses mit Sportheim in Antw
DESCRIPTION:Phase: Ausschreibung | Beschreibung: Offizielle Ausschreibung mit Bieterfrist. | Link: https://ausschreibungsradar.com/ausschreibung/37ad759d-7176-4839-af4e-137c33af276b/
URL:https://ausschreibungsradar.com/ausschreibung/37ad759d-7176-4839-af4e-137c33af276b/
END:VEVENT
BEGIN:VEVENT
UID:7d8535cefe330048@ausschreibungsradar.com
DTSTAMP:20260424T223628Z
DTSTART;VALUE=DATE:20250701
DTEND;VALUE=DATE:20250701
SUMMARY:Ausschreibung — Errichtung eines Feuerwehrgerätehauses mit Sportheim in Antw
DESCRIPTION:Phase: Ausschreibung | Beschreibung: Offizielle Ausschreibung mit Bieterfrist. | Link: https://ausschreibungsradar.com/ausschreibung/a33c6b13-e305-4cf8-8df8-cef14ad5f7f5/
URL:https://ausschreibungsradar.com/ausschreibung/a33c6b13-e305-4cf8-8df8-cef14ad5f7f5/
END:VEVENT
END:VCALENDAR
