BEGIN:VCALENDAR
VERSION:2.0
PRODID:-//AusschreibungsRadar//Timeline//DE
CALSCALE:GREGORIAN
METHOD:PUBLISH
X-WR-CALNAME:Projekt Personenbeförderung im freigestellten Schülerverkehr
X-WR-TIMEZONE:Europe/Berlin
BEGIN:VEVENT
UID:8bd05f0381c70d47@ausschreibungsradar.com
DTSTAMP:20260424T160114Z
DTSTART;VALUE=DATE:20250415
DTEND;VALUE=DATE:20250415
SUMMARY:Ausschreibung — Personenbeförderung im freigestellten Schülerverkehr
DESCRIPTION:Phase: Ausschreibung | Beschreibung: Angebote werden eingeholt | Link: https://ausschreibungsradar.com/ausschreibung/37b95b3a-76a8-45a7-993e-9d6c15feccec/ | Geschätzter Wert: 1250000 €
URL:https://ausschreibungsradar.com/ausschreibung/37b95b3a-76a8-45a7-993e-9d6c15feccec/
END:VEVENT
BEGIN:VEVENT
UID:6aafafe3609214e1@ausschreibungsradar.com
DTSTAMP:20260424T160114Z
DTSTART;VALUE=DATE:20250718
DTEND;VALUE=DATE:20250718
SUMMARY:Vergabeergebnis — Personenbeförderung im freigestellten Schülerverkehr
DESCRIPTION:Phase: Vergabeergebnis | Beschreibung: Auftrag wurde zugeschlagen | Link: https://ausschreibungsradar.com/ausschreibung/3e724160-74d8-4786-b669-c411db5b95fc/ | Geschätzter Wert: 1250000 €
URL:https://ausschreibungsradar.com/ausschreibung/3e724160-74d8-4786-b669-c411db5b95fc/
END:VEVENT
END:VCALENDAR
