BEGIN:VCALENDAR
VERSION:2.0
PRODID:-//AusschreibungsRadar//Timeline//DE
CALSCALE:GREGORIAN
METHOD:PUBLISH
X-WR-CALNAME:Projekt Remote-basierte Verarbeitung und Speicherung hochauflösender
X-WR-TIMEZONE:Europe/Berlin
BEGIN:VEVENT
UID:560d9dd17f04e0e4@ausschreibungsradar.com
DTSTAMP:20260425T015416Z
DTSTART;VALUE=DATE:20250515
DTEND;VALUE=DATE:20250515
SUMMARY:Angebotsfrist — Remote-basierte Verarbeitung und Speicherung hochauflösender
DESCRIPTION:Phase: Ausschreibung | Beschreibung: Angebote werden eingeholt | Link: https://ausschreibungsradar.com/ausschreibung/384ad866-09c1-4635-bb3a-5cd3954bb0f1/ | Geschätzter Wert: 400000 €
URL:https://ausschreibungsradar.com/ausschreibung/384ad866-09c1-4635-bb3a-5cd3954bb0f1/
END:VEVENT
BEGIN:VEVENT
UID:f4e7f37b0f6df2be@ausschreibungsradar.com
DTSTAMP:20260425T015416Z
DTSTART;VALUE=DATE:20250315
DTEND;VALUE=DATE:20250315
SUMMARY:Ausschreibung — Remote-basierte Verarbeitung und Speicherung hochauflösender
DESCRIPTION:Phase: Ausschreibung | Beschreibung: Offizielle Ausschreibung mit Bieterfrist. | Link: https://ausschreibungsradar.com/ausschreibung/0d31b0ce-ee1a-4218-bb66-f61aa42ba16f/
URL:https://ausschreibungsradar.com/ausschreibung/0d31b0ce-ee1a-4218-bb66-f61aa42ba16f/
END:VEVENT
BEGIN:VEVENT
UID:47aaebd3b8978e2e@ausschreibungsradar.com
DTSTAMP:20260425T015416Z
DTSTART;VALUE=DATE:20250315
DTEND;VALUE=DATE:20250315
SUMMARY:Ausschreibung — Remote-basierte Verarbeitung und Speicherung hochauflösender
DESCRIPTION:Phase: Ausschreibung | Beschreibung: Offizielle Ausschreibung mit Bieterfrist. | Link: https://ausschreibungsradar.com/ausschreibung/1a4cbb0d-b6aa-4a28-83fd-aeb5f5e05e9c/
URL:https://ausschreibungsradar.com/ausschreibung/1a4cbb0d-b6aa-4a28-83fd-aeb5f5e05e9c/
END:VEVENT
BEGIN:VEVENT
UID:b4854daf0b92e8f1@ausschreibungsradar.com
DTSTAMP:20260425T015416Z
DTSTART;VALUE=DATE:20250315
DTEND;VALUE=DATE:20250315
SUMMARY:Ausschreibung — Remote-basierte Verarbeitung und Speicherung hochauflösender
DESCRIPTION:Phase: Ausschreibung | Beschreibung: Offizielle Ausschreibung mit Bieterfrist. | Link: https://ausschreibungsradar.com/ausschreibung/06282cff-b4cd-4b11-b652-197ec7e6cdd8/
URL:https://ausschreibungsradar.com/ausschreibung/06282cff-b4cd-4b11-b652-197ec7e6cdd8/
END:VEVENT
BEGIN:VEVENT
UID:6a9a1323fbf36142@ausschreibungsradar.com
DTSTAMP:20260425T015416Z
DTSTART;VALUE=DATE:20250601
DTEND;VALUE=DATE:20250601
SUMMARY:Vergabeergebnis — Remote-basierte Verarbeitung und Speicherung hochauflösender
DESCRIPTION:Phase: Vergabeergebnis | Beschreibung: Auftrag wurde zugeschlagen | Link: https://ausschreibungsradar.com/ausschreibung/e8c858a3-c12d-4165-9c33-989bcd0b61dc/ | Geschätzter Wert: 400000 €
URL:https://ausschreibungsradar.com/ausschreibung/e8c858a3-c12d-4165-9c33-989bcd0b61dc/
END:VEVENT
END:VCALENDAR
