BEGIN:VCALENDAR
VERSION:2.0
PRODID:-//AusschreibungsRadar//Timeline//DE
CALSCALE:GREGORIAN
METHOD:PUBLISH
X-WR-CALNAME:Projekt Planung TA - Erweiterungsneubau Grundschule Ensdorf
X-WR-TIMEZONE:Europe/Berlin
BEGIN:VEVENT
UID:6e2ce726d1acb238@ausschreibungsradar.com
DTSTAMP:20260424T042926Z
DTSTART;VALUE=DATE:20250226
DTEND;VALUE=DATE:20250226
SUMMARY:Angebotsfrist — Planung TA - Erweiterungsneubau Grundschule Ensdorf
DESCRIPTION:Phase: Ausschreibung | Beschreibung: Angebote werden eingeholt | Link: https://ausschreibungsradar.com/ausschreibung/90e12cef-dbaf-41e6-b319-968e5b147d2e/
URL:https://ausschreibungsradar.com/ausschreibung/90e12cef-dbaf-41e6-b319-968e5b147d2e/
END:VEVENT
BEGIN:VEVENT
UID:6b29cdda239fe8bc@ausschreibungsradar.com
DTSTAMP:20260424T042926Z
DTSTART;VALUE=DATE:20250528
DTEND;VALUE=DATE:20250528
SUMMARY:Vergabeergebnis — Planung TA - Erweiterungsneubau Grundschule Ensdorf
DESCRIPTION:Phase: Vergabeergebnis | Beschreibung: Auftrag wurde zugeschlagen | Link: https://ausschreibungsradar.com/ausschreibung/38a04d09-fa4d-4e6e-9be3-3b811cdd10c9/
URL:https://ausschreibungsradar.com/ausschreibung/38a04d09-fa4d-4e6e-9be3-3b811cdd10c9/
END:VEVENT
BEGIN:VEVENT
UID:dfadef41f97bb4a9@ausschreibungsradar.com
DTSTAMP:20260424T042926Z
DTSTART;VALUE=DATE:20250605
DTEND;VALUE=DATE:20250605
SUMMARY:Zuschlag — Planung TA - Erweiterungsneubau Grundschule Ensdorf
DESCRIPTION:Phase: Zuschlag | Beschreibung: Vergabeergebnis — Auftrag wurde erteilt oder Verfahren beendet. | Link: https://ausschreibungsradar.com/ausschreibung/59569df9-62f6-4ec9-a62d-140858f467f0/
URL:https://ausschreibungsradar.com/ausschreibung/59569df9-62f6-4ec9-a62d-140858f467f0/
END:VEVENT
BEGIN:VEVENT
UID:c2410d76faafb014@ausschreibungsradar.com
DTSTAMP:20260424T042926Z
DTSTART;VALUE=DATE:20250618
DTEND;VALUE=DATE:20250618
SUMMARY:Zuschlag — Planung TA - Erweiterungsneubau Grundschule Ensdorf
DESCRIPTION:Phase: Zuschlag | Beschreibung: Vergabeergebnis — Auftrag wurde erteilt oder Verfahren beendet. | Link: https://ausschreibungsradar.com/ausschreibung/af1a3ccf-a17f-4a18-9064-6d0e60c15402/
URL:https://ausschreibungsradar.com/ausschreibung/af1a3ccf-a17f-4a18-9064-6d0e60c15402/
END:VEVENT
END:VCALENDAR
