BEGIN:VCALENDAR
VERSION:2.0
PRODID:-//AusschreibungsRadar//Timeline//DE
CALSCALE:GREGORIAN
METHOD:PUBLISH
X-WR-CALNAME:Projekt Neubau Feuerwehrgerätehaus Umkirch - Tore
X-WR-TIMEZONE:Europe/Berlin
BEGIN:VEVENT
UID:0c2d3d2e97b7cf11@ausschreibungsradar.com
DTSTAMP:20260426T041901Z
DTSTART;VALUE=DATE:20250909
DTEND;VALUE=DATE:20250909
SUMMARY:Angebotsfrist — Neubau Feuerwehrgerätehaus Umkirch - Tore
DESCRIPTION:Phase: Ausschreibung | Beschreibung: Angebote werden eingeholt | Link: https://ausschreibungsradar.com/ausschreibung/3904a1a0-bf77-45b1-a462-855ef758f16c/
URL:https://ausschreibungsradar.com/ausschreibung/3904a1a0-bf77-45b1-a462-855ef758f16c/
END:VEVENT
BEGIN:VEVENT
UID:7e0c0095294d56a7@ausschreibungsradar.com
DTSTAMP:20260426T041901Z
DTSTART;VALUE=DATE:20250730
DTEND;VALUE=DATE:20250730
SUMMARY:Ausschreibung — Neubau Feuerwehrgerätehaus Umkirch - Tore
DESCRIPTION:Phase: Ausschreibung | Beschreibung: Offizielle Ausschreibung mit Bieterfrist. | Link: https://ausschreibungsradar.com/ausschreibung/abbbc5c9-320a-4d2d-86a3-1f8e1f6a49d5/
URL:https://ausschreibungsradar.com/ausschreibung/abbbc5c9-320a-4d2d-86a3-1f8e1f6a49d5/
END:VEVENT
BEGIN:VEVENT
UID:cfa49ca290789132@ausschreibungsradar.com
DTSTAMP:20260426T041901Z
DTSTART;VALUE=DATE:20251107
DTEND;VALUE=DATE:20251107
SUMMARY:Vergabeergebnis — Neubau Feuerwehrgerätehaus Umkirch - Tore
DESCRIPTION:Phase: Vergabeergebnis | Beschreibung: Auftrag wurde zugeschlagen | Link: https://ausschreibungsradar.com/ausschreibung/0636054d-50fb-4df1-a9ae-4076f337cec4/
URL:https://ausschreibungsradar.com/ausschreibung/0636054d-50fb-4df1-a9ae-4076f337cec4/
END:VEVENT
END:VCALENDAR
