BEGIN:VCALENDAR
VERSION:2.0
PRODID:-//AusschreibungsRadar//Timeline//DE
CALSCALE:GREGORIAN
METHOD:PUBLISH
X-WR-CALNAME:Projekt CLXXXIX-51-2020-BM-KBB-Schlosser-, Metallbau
X-WR-TIMEZONE:Europe/Berlin
BEGIN:VEVENT
UID:3477986fe5a349c7@ausschreibungsradar.com
DTSTAMP:20260424T151429Z
DTSTART;VALUE=DATE:20250514
DTEND;VALUE=DATE:20250514
SUMMARY:Zuschlag — CLXXXIX-51-2020-BM-KBB-Schlosser-\, Metallbau
DESCRIPTION:Phase: Zuschlag | Beschreibung: Vergabeergebnis — Auftrag wurde erteilt oder Verfahren beendet. | Link: https://ausschreibungsradar.com/ausschreibung/ee48109a-ee97-4ea3-9d26-a1b11eabbfea/
URL:https://ausschreibungsradar.com/ausschreibung/ee48109a-ee97-4ea3-9d26-a1b11eabbfea/
END:VEVENT
BEGIN:VEVENT
UID:96d4c34b74bfe48e@ausschreibungsradar.com
DTSTAMP:20260424T151429Z
DTSTART;VALUE=DATE:20250516
DTEND;VALUE=DATE:20250516
SUMMARY:Zuschlag — CLXXXIX-51-2020-BM-KBB-Schlosser-\, Metallbau
DESCRIPTION:Phase: Zuschlag | Beschreibung: Vergabeergebnis — Auftrag wurde erteilt oder Verfahren beendet. | Link: https://ausschreibungsradar.com/ausschreibung/c2a09504-a7c3-4d23-9ca5-5292b22d5073/
URL:https://ausschreibungsradar.com/ausschreibung/c2a09504-a7c3-4d23-9ca5-5292b22d5073/
END:VEVENT
BEGIN:VEVENT
UID:c4468c8adb1cef9b@ausschreibungsradar.com
DTSTAMP:20260424T151429Z
DTSTART;VALUE=DATE:20250630
DTEND;VALUE=DATE:20250630
SUMMARY:Angebotsfrist — CLXXXIX-51-2020-BM-KBB-Schlosser-\, Metallbau
DESCRIPTION:Phase: Ausschreibung | Beschreibung: Angebote werden eingeholt | Link: https://ausschreibungsradar.com/ausschreibung/390e257e-761d-4db9-a8f8-bc4a74bfe1c9/
URL:https://ausschreibungsradar.com/ausschreibung/390e257e-761d-4db9-a8f8-bc4a74bfe1c9/
END:VEVENT
BEGIN:VEVENT
UID:9d99abaac42c8b19@ausschreibungsradar.com
DTSTAMP:20260424T151429Z
DTSTART;VALUE=DATE:20250522
DTEND;VALUE=DATE:20250522
SUMMARY:Ausschreibung — CLXXXIX-51-2020-BM-KBB-Schlosser-\, Metallbau
DESCRIPTION:Phase: Ausschreibung | Beschreibung: Offizielle Ausschreibung mit Bieterfrist. | Link: https://ausschreibungsradar.com/ausschreibung/a2c0aa74-29ad-4719-b8d0-3b9f3f7f000d/
URL:https://ausschreibungsradar.com/ausschreibung/a2c0aa74-29ad-4719-b8d0-3b9f3f7f000d/
END:VEVENT
BEGIN:VEVENT
UID:724db08988c4b8cf@ausschreibungsradar.com
DTSTAMP:20260424T151429Z
DTSTART;VALUE=DATE:20250703
DTEND;VALUE=DATE:20250703
SUMMARY:Zuschlag — CLXXXIX-51-2020-BM-KBB-Schlosser-\, Metallbau
DESCRIPTION:Phase: Zuschlag | Beschreibung: Vergabeergebnis — Auftrag wurde erteilt oder Verfahren beendet. | Link: https://ausschreibungsradar.com/ausschreibung/db9d1579-deff-4239-9585-f869cce9d9d7/
URL:https://ausschreibungsradar.com/ausschreibung/db9d1579-deff-4239-9585-f869cce9d9d7/
END:VEVENT
BEGIN:VEVENT
UID:8314342e44a57b6f@ausschreibungsradar.com
DTSTAMP:20260424T151429Z
DTSTART;VALUE=DATE:20260125
DTEND;VALUE=DATE:20260125
SUMMARY:Vergabeergebnis — CLXXXIX-51-2020-BM-KBB-Schlosser-\, Metallbau
DESCRIPTION:Phase: Vergabeergebnis | Beschreibung: Auftrag wurde zugeschlagen | Link: https://ausschreibungsradar.com/ausschreibung/1e6e4768-dbe7-40b0-bcb9-a49012dcbc81/
URL:https://ausschreibungsradar.com/ausschreibung/1e6e4768-dbe7-40b0-bcb9-a49012dcbc81/
END:VEVENT
END:VCALENDAR
