BEGIN:VCALENDAR
VERSION:2.0
PRODID:-//AusschreibungsRadar//Timeline//DE
CALSCALE:GREGORIAN
METHOD:PUBLISH
X-WR-CALNAME:Projekt Betriebsärzte und arbeitsmedizinische Assistenz
X-WR-TIMEZONE:Europe/Berlin
BEGIN:VEVENT
UID:552ebac27d6ddd35@ausschreibungsradar.com
DTSTAMP:20260425T002021Z
DTSTART;VALUE=DATE:20240423
DTEND;VALUE=DATE:20240423
SUMMARY:Ausschreibung — Betriebsärzte und arbeitsmedizinische Assistenz
DESCRIPTION:Phase: Ausschreibung | Beschreibung: Angebote werden eingeholt | Link: https://ausschreibungsradar.com/ausschreibung/394fd062-8cd7-4eca-94b6-d8909475ff49/
URL:https://ausschreibungsradar.com/ausschreibung/394fd062-8cd7-4eca-94b6-d8909475ff49/
END:VEVENT
BEGIN:VEVENT
UID:8a69f4dec5d9f58a@ausschreibungsradar.com
DTSTAMP:20260425T002021Z
DTSTART;VALUE=DATE:20240423
DTEND;VALUE=DATE:20240423
SUMMARY:Ausschreibung — Betriebsärzte und arbeitsmedizinische Assistenz
DESCRIPTION:Phase: Ausschreibung | Beschreibung: Offizielle Ausschreibung mit Bieterfrist. | Link: https://ausschreibungsradar.com/ausschreibung/f38b4468-522b-45e3-9727-bb97ddbce3d5/
URL:https://ausschreibungsradar.com/ausschreibung/f38b4468-522b-45e3-9727-bb97ddbce3d5/
END:VEVENT
BEGIN:VEVENT
UID:f7a0ce36e99ab201@ausschreibungsradar.com
DTSTAMP:20260425T002021Z
DTSTART;VALUE=DATE:20240905
DTEND;VALUE=DATE:20240905
SUMMARY:Vergabeergebnis — Betriebsärzte und arbeitsmedizinische Assistenz
DESCRIPTION:Phase: Vergabeergebnis | Beschreibung: Auftrag wurde zugeschlagen | Link: https://ausschreibungsradar.com/ausschreibung/5d4bb342-e1da-4a59-81db-dbb70a98a009/ | Geschätzter Wert: 165301 €
URL:https://ausschreibungsradar.com/ausschreibung/5d4bb342-e1da-4a59-81db-dbb70a98a009/
END:VEVENT
END:VCALENDAR
