BEGIN:VCALENDAR
VERSION:2.0
PRODID:-//AusschreibungsRadar//Timeline//DE
CALSCALE:GREGORIAN
METHOD:PUBLISH
X-WR-CALNAME:Projekt Instandhaltung BX900/DX200
X-WR-TIMEZONE:Europe/Berlin
BEGIN:VEVENT
UID:cec7712d706d418d@ausschreibungsradar.com
DTSTAMP:20260426T005055Z
DTSTART;VALUE=DATE:20241111
DTEND;VALUE=DATE:20241111
SUMMARY:Direktvergabe-Ankündigung — Instandhaltung BX900/DX200
DESCRIPTION:Phase: Direktvergabe-Ankündigung | Beschreibung: Geplante Direktvergabe (VEAT) — 10 Tage Stillhaltefrist | Link: https://ausschreibungsradar.com/ausschreibung/f5d1e512-a984-45b3-aa44-a11246f5d9c6/
URL:https://ausschreibungsradar.com/ausschreibung/f5d1e512-a984-45b3-aa44-a11246f5d9c6/
END:VEVENT
BEGIN:VEVENT
UID:fb0ed7af66ccd7cc@ausschreibungsradar.com
DTSTAMP:20260426T005055Z
DTSTART;VALUE=DATE:20241205
DTEND;VALUE=DATE:20241205
SUMMARY:Vergabeergebnis — Instandhaltung BX900/DX200
DESCRIPTION:Phase: Vergabeergebnis | Beschreibung: Auftrag wurde zugeschlagen | Link: https://ausschreibungsradar.com/ausschreibung/39f313b2-668c-4b67-a042-57e64687afb5/
URL:https://ausschreibungsradar.com/ausschreibung/39f313b2-668c-4b67-a042-57e64687afb5/
END:VEVENT
END:VCALENDAR
