BEGIN:VCALENDAR
VERSION:2.0
PRODID:-//AusschreibungsRadar//Timeline//DE
CALSCALE:GREGORIAN
METHOD:PUBLISH
X-WR-CALNAME:Projekt Neubau Kindertagesstätte, Im Brühl 26, Estricharbeiten
X-WR-TIMEZONE:Europe/Berlin
BEGIN:VEVENT
UID:962f33a94f262270@ausschreibungsradar.com
DTSTAMP:20260424T042922Z
DTSTART;VALUE=DATE:20240723
DTEND;VALUE=DATE:20240723
SUMMARY:Ausschreibung — Neubau Kindertagesstätte\, Im Brühl 26\, Estricharbeiten
DESCRIPTION:Phase: Ausschreibung | Beschreibung: Angebote werden eingeholt | Link: https://ausschreibungsradar.com/ausschreibung/e18b6c10-78bf-45c4-abae-9ca3f2a6231e/
URL:https://ausschreibungsradar.com/ausschreibung/e18b6c10-78bf-45c4-abae-9ca3f2a6231e/
END:VEVENT
BEGIN:VEVENT
UID:76692ca916ae6ad4@ausschreibungsradar.com
DTSTAMP:20260424T042922Z
DTSTART;VALUE=DATE:20240925
DTEND;VALUE=DATE:20240925
SUMMARY:Vergabeergebnis — Neubau Kindertagesstätte\, Im Brühl 26\, Estricharbeiten
DESCRIPTION:Phase: Vergabeergebnis | Beschreibung: Auftrag wurde zugeschlagen | Link: https://ausschreibungsradar.com/ausschreibung/3b0776d1-0e8b-415a-b8f3-c229fe2cec4f/
URL:https://ausschreibungsradar.com/ausschreibung/3b0776d1-0e8b-415a-b8f3-c229fe2cec4f/
END:VEVENT
BEGIN:VEVENT
UID:63ab459bbdfc01e3@ausschreibungsradar.com
DTSTAMP:20260424T042922Z
DTSTART;VALUE=DATE:20240925
DTEND;VALUE=DATE:20240925
SUMMARY:Zuschlag — Neubau Kindertagesstätte\, Im Brühl 26\, Estricharbeiten
DESCRIPTION:Phase: Zuschlag | Beschreibung: Vergabeergebnis — Auftrag wurde erteilt oder Verfahren beendet. | Link: https://ausschreibungsradar.com/ausschreibung/8e8b7aad-cbd7-47aa-ba16-c27a426dd529/
URL:https://ausschreibungsradar.com/ausschreibung/8e8b7aad-cbd7-47aa-ba16-c27a426dd529/
END:VEVENT
BEGIN:VEVENT
UID:b44ab395e8bdcde1@ausschreibungsradar.com
DTSTAMP:20260424T042922Z
DTSTART;VALUE=DATE:20241007
DTEND;VALUE=DATE:20241007
SUMMARY:Ausschreibung — Neubau Kindertagesstätte\, Im Brühl 26\, Estricharbeiten
DESCRIPTION:Phase: Ausschreibung | Beschreibung: Offizielle Ausschreibung mit Bieterfrist. | Link: https://ausschreibungsradar.com/ausschreibung/c5893c46-cdb4-4be2-86bc-47886c09ce03/
URL:https://ausschreibungsradar.com/ausschreibung/c5893c46-cdb4-4be2-86bc-47886c09ce03/
END:VEVENT
BEGIN:VEVENT
UID:b2ad31d5a8b8e978@ausschreibungsradar.com
DTSTAMP:20260424T042922Z
DTSTART;VALUE=DATE:20241008
DTEND;VALUE=DATE:20241008
SUMMARY:Ausschreibung — Neubau Kindertagesstätte\, Im Brühl 26\, Estricharbeiten
DESCRIPTION:Phase: Ausschreibung | Beschreibung: Offizielle Ausschreibung mit Bieterfrist. | Link: https://ausschreibungsradar.com/ausschreibung/bcd6765b-7023-4e9a-9fa4-3cc97cfdd980/
URL:https://ausschreibungsradar.com/ausschreibung/bcd6765b-7023-4e9a-9fa4-3cc97cfdd980/
END:VEVENT
BEGIN:VEVENT
UID:7e6eb3a12dd8392c@ausschreibungsradar.com
DTSTAMP:20260424T042922Z
DTSTART;VALUE=DATE:20241014
DTEND;VALUE=DATE:20241014
SUMMARY:Ausschreibung — Neubau Kindertagesstätte\, Im Brühl 26\, Estricharbeiten
DESCRIPTION:Phase: Ausschreibung | Beschreibung: Offizielle Ausschreibung mit Bieterfrist. | Link: https://ausschreibungsradar.com/ausschreibung/865cace8-0717-4897-8a5d-648591492920/
URL:https://ausschreibungsradar.com/ausschreibung/865cace8-0717-4897-8a5d-648591492920/
END:VEVENT
END:VCALENDAR
