BEGIN:VCALENDAR
VERSION:2.0
PRODID:-//AusschreibungsRadar//Timeline//DE
CALSCALE:GREGORIAN
METHOD:PUBLISH
X-WR-CALNAME:Projekt Verg.-Nr. 125 - Medizinische Gase
X-WR-TIMEZONE:Europe/Berlin
BEGIN:VEVENT
UID:b429bce5f19c9937@ausschreibungsradar.com
DTSTAMP:20260425T104355Z
DTSTART;VALUE=DATE:20241204
DTEND;VALUE=DATE:20241204
SUMMARY:Ausschreibung — Verg.-Nr. 125 - Medizinische Gase
DESCRIPTION:Phase: Ausschreibung | Beschreibung: Offizielle Ausschreibung mit Bieterfrist. | Link: https://ausschreibungsradar.com/ausschreibung/2726815c-a38e-4351-aee9-e9aae19d9520/
URL:https://ausschreibungsradar.com/ausschreibung/2726815c-a38e-4351-aee9-e9aae19d9520/
END:VEVENT
BEGIN:VEVENT
UID:2162e02ab6b66e6a@ausschreibungsradar.com
DTSTAMP:20260425T104355Z
DTSTART;VALUE=DATE:20250204
DTEND;VALUE=DATE:20250204
SUMMARY:Angebotsfrist — Verg.-Nr. 125 - Medizinische Gase
DESCRIPTION:Phase: Ausschreibung | Beschreibung: Angebote werden eingeholt | Link: https://ausschreibungsradar.com/ausschreibung/44a1c203-9673-4744-ae4e-5d07eeb8425c/
URL:https://ausschreibungsradar.com/ausschreibung/44a1c203-9673-4744-ae4e-5d07eeb8425c/
END:VEVENT
BEGIN:VEVENT
UID:066b06a5e7e29ad5@ausschreibungsradar.com
DTSTAMP:20260425T104355Z
DTSTART;VALUE=DATE:20250424
DTEND;VALUE=DATE:20250424
SUMMARY:Vergabeergebnis — Verg.-Nr. 125 - Medizinische Gase
DESCRIPTION:Phase: Vergabeergebnis | Beschreibung: Auftrag wurde zugeschlagen | Link: https://ausschreibungsradar.com/ausschreibung/3ba08a70-b4e9-4c0e-b546-e2a671db9a59/
URL:https://ausschreibungsradar.com/ausschreibung/3ba08a70-b4e9-4c0e-b546-e2a671db9a59/
END:VEVENT
END:VCALENDAR
