BEGIN:VCALENDAR
VERSION:2.0
PRODID:-//AusschreibungsRadar//Timeline//DE
CALSCALE:GREGORIAN
METHOD:PUBLISH
X-WR-CALNAME:Projekt Stadt Rehau - Generalsanierung Schulzentrum Gebäudeteil H - 
X-WR-TIMEZONE:Europe/Berlin
BEGIN:VEVENT
UID:06886a260c956965@ausschreibungsradar.com
DTSTAMP:20260424T021127Z
DTSTART;VALUE=DATE:20240712
DTEND;VALUE=DATE:20240712
SUMMARY:Ausschreibung — Stadt Rehau - Generalsanierung Schulzentrum Gebäudeteil H - 
DESCRIPTION:Phase: Ausschreibung | Beschreibung: Offizielle Ausschreibung mit Bieterfrist. | Link: https://ausschreibungsradar.com/ausschreibung/3bab10b4-ee50-4adf-994c-3b4ac65c4e9a/ | Geschätzter Wert: 600000 €
URL:https://ausschreibungsradar.com/ausschreibung/3bab10b4-ee50-4adf-994c-3b4ac65c4e9a/
END:VEVENT
BEGIN:VEVENT
UID:e86c06d692e2b198@ausschreibungsradar.com
DTSTAMP:20260424T021127Z
DTSTART;VALUE=DATE:20240724
DTEND;VALUE=DATE:20240724
SUMMARY:Ausschreibung — Stadt Rehau - Generalsanierung Schulzentrum Gebäudeteil H - 
DESCRIPTION:Phase: Ausschreibung | Beschreibung: Offizielle Ausschreibung mit Bieterfrist. | Link: https://ausschreibungsradar.com/ausschreibung/60f8dad8-ba04-416b-8869-8b212641fb54/
URL:https://ausschreibungsradar.com/ausschreibung/60f8dad8-ba04-416b-8869-8b212641fb54/
END:VEVENT
BEGIN:VEVENT
UID:31f77a99521ab867@ausschreibungsradar.com
DTSTAMP:20260424T021127Z
DTSTART;VALUE=DATE:20240725
DTEND;VALUE=DATE:20240725
SUMMARY:Ausschreibung — Stadt Rehau - Generalsanierung Schulzentrum Gebäudeteil H - 
DESCRIPTION:Phase: Ausschreibung | Beschreibung: Offizielle Ausschreibung mit Bieterfrist. | Link: https://ausschreibungsradar.com/ausschreibung/c9d76fdb-7dae-4c6b-b862-1309532daf74/
URL:https://ausschreibungsradar.com/ausschreibung/c9d76fdb-7dae-4c6b-b862-1309532daf74/
END:VEVENT
END:VCALENDAR
