BEGIN:VCALENDAR
VERSION:2.0
PRODID:-//AusschreibungsRadar//Timeline//DE
CALSCALE:GREGORIAN
METHOD:PUBLISH
X-WR-CALNAME:Projekt Teilneubau GEH II - Rohbau- und Erdarbeiten
X-WR-TIMEZONE:Europe/Berlin
BEGIN:VEVENT
UID:cf2a46acf53538d6@ausschreibungsradar.com
DTSTAMP:20260426T003929Z
DTSTART;VALUE=DATE:20250618
DTEND;VALUE=DATE:20250618
SUMMARY:Angebotsfrist — Teilneubau GEH II - Rohbau- und Erdarbeiten
DESCRIPTION:Phase: Ausschreibung | Beschreibung: Angebote werden eingeholt | Link: https://ausschreibungsradar.com/ausschreibung/3ca6f8a0-3d70-4192-aa74-cee0ffd3b9ca/
URL:https://ausschreibungsradar.com/ausschreibung/3ca6f8a0-3d70-4192-aa74-cee0ffd3b9ca/
END:VEVENT
BEGIN:VEVENT
UID:ced9871b436e2c47@ausschreibungsradar.com
DTSTAMP:20260426T003929Z
DTSTART;VALUE=DATE:20250325
DTEND;VALUE=DATE:20250325
SUMMARY:Ausschreibung — Teilneubau GEH II - Rohbau- und Erdarbeiten
DESCRIPTION:Phase: Ausschreibung | Beschreibung: Offizielle Ausschreibung mit Bieterfrist. | Link: https://ausschreibungsradar.com/ausschreibung/63d86dd0-00f0-4cf5-a959-af6be44bd21d/
URL:https://ausschreibungsradar.com/ausschreibung/63d86dd0-00f0-4cf5-a959-af6be44bd21d/
END:VEVENT
BEGIN:VEVENT
UID:da798059339a136b@ausschreibungsradar.com
DTSTAMP:20260426T003929Z
DTSTART;VALUE=DATE:20250904
DTEND;VALUE=DATE:20250904
SUMMARY:Vergabeergebnis — Teilneubau GEH II - Rohbau- und Erdarbeiten
DESCRIPTION:Phase: Vergabeergebnis | Beschreibung: Auftrag wurde zugeschlagen | Link: https://ausschreibungsradar.com/ausschreibung/301d6ada-dab9-481e-a89f-52b34fb87d96/
URL:https://ausschreibungsradar.com/ausschreibung/301d6ada-dab9-481e-a89f-52b34fb87d96/
END:VEVENT
END:VCALENDAR
