BEGIN:VCALENDAR
VERSION:2.0
PRODID:-//AusschreibungsRadar//Timeline//DE
CALSCALE:GREGORIAN
METHOD:PUBLISH
X-WR-CALNAME:Projekt Neubau Gebäude für Gemeinschaftliches Wohnen mit Tagesstrukt
X-WR-TIMEZONE:Europe/Berlin
BEGIN:VEVENT
UID:caecc30976e1b962@ausschreibungsradar.com
DTSTAMP:20260424T125916Z
DTSTART;VALUE=DATE:20251124
DTEND;VALUE=DATE:20251124
SUMMARY:Angebotsfrist — Neubau Gebäude für Gemeinschaftliches Wohnen mit Tagesstrukt
DESCRIPTION:Phase: Ausschreibung | Beschreibung: Angebote werden eingeholt | Link: https://ausschreibungsradar.com/ausschreibung/3d341b41-6036-4582-8de2-ecdd7fb82d1d/
URL:https://ausschreibungsradar.com/ausschreibung/3d341b41-6036-4582-8de2-ecdd7fb82d1d/
END:VEVENT
BEGIN:VEVENT
UID:54845e165c407b1f@ausschreibungsradar.com
DTSTAMP:20260424T125916Z
DTSTART;VALUE=DATE:20251025
DTEND;VALUE=DATE:20251025
SUMMARY:Ausschreibung — Neubau Gebäude für Gemeinschaftliches Wohnen mit Tagesstrukt
DESCRIPTION:Phase: Ausschreibung | Beschreibung: Offizielle Ausschreibung mit Bieterfrist. | Link: https://ausschreibungsradar.com/ausschreibung/237f8d15-3fe2-413e-9b44-66b09d774fa7/
URL:https://ausschreibungsradar.com/ausschreibung/237f8d15-3fe2-413e-9b44-66b09d774fa7/
END:VEVENT
BEGIN:VEVENT
UID:2f1e5b97a3b5bf17@ausschreibungsradar.com
DTSTAMP:20260424T125916Z
DTSTART;VALUE=DATE:20251025
DTEND;VALUE=DATE:20251025
SUMMARY:Ausschreibung — Neubau Gebäude für Gemeinschaftliches Wohnen mit Tagesstrukt
DESCRIPTION:Phase: Ausschreibung | Beschreibung: Offizielle Ausschreibung mit Bieterfrist. | Link: https://ausschreibungsradar.com/ausschreibung/6be85b64-e3df-41f5-adb8-fa120ffe3013/
URL:https://ausschreibungsradar.com/ausschreibung/6be85b64-e3df-41f5-adb8-fa120ffe3013/
END:VEVENT
BEGIN:VEVENT
UID:62e5441c7ca91cd3@ausschreibungsradar.com
DTSTAMP:20260424T125916Z
DTSTART;VALUE=DATE:20251116
DTEND;VALUE=DATE:20251116
SUMMARY:Ausschreibung — Neubau Gebäude für Gemeinschaftliches Wohnen mit Tagesstrukt
DESCRIPTION:Phase: Ausschreibung | Beschreibung: Offizielle Ausschreibung mit Bieterfrist. | Link: https://ausschreibungsradar.com/ausschreibung/4cfc8094-0eb9-4424-a4bf-8816fa50bba2/
URL:https://ausschreibungsradar.com/ausschreibung/4cfc8094-0eb9-4424-a4bf-8816fa50bba2/
END:VEVENT
BEGIN:VEVENT
UID:79bea66234f5304c@ausschreibungsradar.com
DTSTAMP:20260424T125916Z
DTSTART;VALUE=DATE:20251116
DTEND;VALUE=DATE:20251116
SUMMARY:Ausschreibung — Neubau Gebäude für Gemeinschaftliches Wohnen mit Tagesstrukt
DESCRIPTION:Phase: Ausschreibung | Beschreibung: Offizielle Ausschreibung mit Bieterfrist. | Link: https://ausschreibungsradar.com/ausschreibung/c5931515-8ec5-430a-addd-a7c53eee8b02/
URL:https://ausschreibungsradar.com/ausschreibung/c5931515-8ec5-430a-addd-a7c53eee8b02/
END:VEVENT
BEGIN:VEVENT
UID:55b338217ef02275@ausschreibungsradar.com
DTSTAMP:20260424T125916Z
DTSTART;VALUE=DATE:20260129
DTEND;VALUE=DATE:20260129
SUMMARY:Vergabeergebnis — Neubau Gebäude für Gemeinschaftliches Wohnen mit Tagesstrukt
DESCRIPTION:Phase: Vergabeergebnis | Beschreibung: Auftrag wurde zugeschlagen | Link: https://ausschreibungsradar.com/ausschreibung/49049b54-5c3d-426c-9b5d-77f0fd5f8253/
URL:https://ausschreibungsradar.com/ausschreibung/49049b54-5c3d-426c-9b5d-77f0fd5f8253/
END:VEVENT
END:VCALENDAR
