BEGIN:VCALENDAR
VERSION:2.0
PRODID:-//AusschreibungsRadar//Timeline//DE
CALSCALE:GREGORIAN
METHOD:PUBLISH
X-WR-CALNAME:Projekt Managed Print Service / Drucker
X-WR-TIMEZONE:Europe/Berlin
BEGIN:VEVENT
UID:473e11a709e18e59@ausschreibungsradar.com
DTSTAMP:20260426T004735Z
DTSTART;VALUE=DATE:20250610
DTEND;VALUE=DATE:20250610
SUMMARY:Angebotsfrist — Managed Print Service / Drucker
DESCRIPTION:Phase: Ausschreibung | Beschreibung: Angebote werden eingeholt | Link: https://ausschreibungsradar.com/ausschreibung/3d747de0-5440-4e83-b6f4-7111a94ed1f9/
URL:https://ausschreibungsradar.com/ausschreibung/3d747de0-5440-4e83-b6f4-7111a94ed1f9/
END:VEVENT
END:VCALENDAR
