BEGIN:VCALENDAR
VERSION:2.0
PRODID:-//AusschreibungsRadar//Timeline//DE
CALSCALE:GREGORIAN
METHOD:PUBLISH
X-WR-CALNAME:Projekt WEH - Beschaffung LED-Würfel für große EWE-Arena Oldenburg
X-WR-TIMEZONE:Europe/Berlin
BEGIN:VEVENT
UID:4cf39ac1ae6d75ff@ausschreibungsradar.com
DTSTAMP:20260425T104342Z
DTSTART;VALUE=DATE:20250822
DTEND;VALUE=DATE:20250822
SUMMARY:Ausschreibung — WEH - Beschaffung LED-Würfel für große EWE-Arena Oldenburg
DESCRIPTION:Phase: Ausschreibung | Beschreibung: Angebote werden eingeholt | Link: https://ausschreibungsradar.com/ausschreibung/6aedc7bf-aee3-468b-949c-6b78940d7883/
URL:https://ausschreibungsradar.com/ausschreibung/6aedc7bf-aee3-468b-949c-6b78940d7883/
END:VEVENT
BEGIN:VEVENT
UID:d0593490998f88a2@ausschreibungsradar.com
DTSTAMP:20260425T104342Z
DTSTART;VALUE=DATE:20250822
DTEND;VALUE=DATE:20250822
SUMMARY:Ausschreibung — WEH - Beschaffung LED-Würfel für große EWE-Arena Oldenburg
DESCRIPTION:Phase: Ausschreibung | Beschreibung: Offizielle Ausschreibung mit Bieterfrist. | Link: https://ausschreibungsradar.com/ausschreibung/8ee00d57-f69f-4984-95c7-d3de904a1a58/
URL:https://ausschreibungsradar.com/ausschreibung/8ee00d57-f69f-4984-95c7-d3de904a1a58/
END:VEVENT
BEGIN:VEVENT
UID:2aa86f823ff821c2@ausschreibungsradar.com
DTSTAMP:20260425T104342Z
DTSTART;VALUE=DATE:20260121
DTEND;VALUE=DATE:20260121
SUMMARY:Vergabeergebnis — WEH - Beschaffung LED-Würfel für große EWE-Arena Oldenburg
DESCRIPTION:Phase: Vergabeergebnis | Beschreibung: Auftrag wurde zugeschlagen | Link: https://ausschreibungsradar.com/ausschreibung/3db0d0bd-1e1d-4159-8ef4-eca20ef01f39/
URL:https://ausschreibungsradar.com/ausschreibung/3db0d0bd-1e1d-4159-8ef4-eca20ef01f39/
END:VEVENT
END:VCALENDAR
