BEGIN:VCALENDAR
VERSION:2.0
PRODID:-//AusschreibungsRadar//Timeline//DE
CALSCALE:GREGORIAN
METHOD:PUBLISH
X-WR-CALNAME:Projekt Notebooks für die Stadtverwaltung Bühl
X-WR-TIMEZONE:Europe/Berlin
BEGIN:VEVENT
UID:962d25a4f4dd82b0@ausschreibungsradar.com
DTSTAMP:20260424T133244Z
DTSTART;VALUE=DATE:20240830
DTEND;VALUE=DATE:20240830
SUMMARY:Angebotsfrist — Notebooks für die Stadtverwaltung Bühl
DESCRIPTION:Phase: Ausschreibung | Beschreibung: Angebote werden eingeholt | Link: https://ausschreibungsradar.com/ausschreibung/3e89f559-e2ac-4180-8e43-2dd414dc3bcf/
URL:https://ausschreibungsradar.com/ausschreibung/3e89f559-e2ac-4180-8e43-2dd414dc3bcf/
END:VEVENT
END:VCALENDAR
