BEGIN:VCALENDAR
VERSION:2.0
PRODID:-//AusschreibungsRadar//Timeline//DE
CALSCALE:GREGORIAN
METHOD:PUBLISH
X-WR-CALNAME:Projekt Planungs- und Baumanagementleistungen für Verkehrsanlagen - 
X-WR-TIMEZONE:Europe/Berlin
BEGIN:VEVENT
UID:fcb891b843ab9b11@ausschreibungsradar.com
DTSTAMP:20260425T134051Z
DTSTART;VALUE=DATE:20240822
DTEND;VALUE=DATE:20240822
SUMMARY:Zuschlag — Planungs- und Baumanagementleistungen für Verkehrsanlagen - 
DESCRIPTION:Phase: Zuschlag | Beschreibung: Vergabeergebnis — Auftrag wurde erteilt oder Verfahren beendet. | Link: https://ausschreibungsradar.com/ausschreibung/4c039206-c94f-493c-8b96-fe7696365412/
URL:https://ausschreibungsradar.com/ausschreibung/4c039206-c94f-493c-8b96-fe7696365412/
END:VEVENT
BEGIN:VEVENT
UID:0e9e0e0b8754334e@ausschreibungsradar.com
DTSTAMP:20260425T134051Z
DTSTART;VALUE=DATE:20240926
DTEND;VALUE=DATE:20240926
SUMMARY:Angebotsfrist — Planungs- und Baumanagementleistungen für Verkehrsanlagen - 
DESCRIPTION:Phase: Ausschreibung | Beschreibung: Angebote werden eingeholt | Link: https://ausschreibungsradar.com/ausschreibung/3e97bbe6-d962-4233-821f-6550e9a84bd6/
URL:https://ausschreibungsradar.com/ausschreibung/3e97bbe6-d962-4233-821f-6550e9a84bd6/
END:VEVENT
BEGIN:VEVENT
UID:04e910ff67434fef@ausschreibungsradar.com
DTSTAMP:20260425T134051Z
DTSTART;VALUE=DATE:20241108
DTEND;VALUE=DATE:20241108
SUMMARY:Vergabeergebnis — Planungs- und Baumanagementleistungen für Verkehrsanlagen - 
DESCRIPTION:Phase: Vergabeergebnis | Beschreibung: Auftrag wurde zugeschlagen | Link: https://ausschreibungsradar.com/ausschreibung/61351237-904c-42a1-b0fe-8f4035dbd989/ | Auftragnehmer: Meyer & Schmidt Ingenieur
URL:https://ausschreibungsradar.com/ausschreibung/61351237-904c-42a1-b0fe-8f4035dbd989/
END:VEVENT
END:VCALENDAR
