BEGIN:VCALENDAR
VERSION:2.0
PRODID:-//AusschreibungsRadar//Timeline//DE
CALSCALE:GREGORIAN
METHOD:PUBLISH
X-WR-CALNAME:Projekt Krummennaab - Soziales Zentrum | Metallbauarbeiten Türen DIN
X-WR-TIMEZONE:Europe/Berlin
BEGIN:VEVENT
UID:0060a6b3fd957d0f@ausschreibungsradar.com
DTSTAMP:20260424T115427Z
DTSTART;VALUE=DATE:20241204
DTEND;VALUE=DATE:20241204
SUMMARY:Ausschreibung — Krummennaab - Soziales Zentrum | Metallbauarbeiten Türen DIN
DESCRIPTION:Phase: Ausschreibung | Beschreibung: Angebote werden eingeholt | Link: https://ausschreibungsradar.com/ausschreibung/3fb11ea8-08cc-4d9e-9f0a-185f2685de4a/
URL:https://ausschreibungsradar.com/ausschreibung/3fb11ea8-08cc-4d9e-9f0a-185f2685de4a/
END:VEVENT
BEGIN:VEVENT
UID:43cf646a76de23bf@ausschreibungsradar.com
DTSTAMP:20260424T115427Z
DTSTART;VALUE=DATE:20241204
DTEND;VALUE=DATE:20241204
SUMMARY:Ausschreibung — Krummennaab - Soziales Zentrum | Metallbauarbeiten Türen DIN
DESCRIPTION:Phase: Ausschreibung | Beschreibung: Offizielle Ausschreibung mit Bieterfrist. | Link: https://ausschreibungsradar.com/ausschreibung/810c2180-1116-4fc2-b0f2-3e2ea2c79878/
URL:https://ausschreibungsradar.com/ausschreibung/810c2180-1116-4fc2-b0f2-3e2ea2c79878/
END:VEVENT
BEGIN:VEVENT
UID:65a4508b191357f2@ausschreibungsradar.com
DTSTAMP:20260424T115427Z
DTSTART;VALUE=DATE:20241204
DTEND;VALUE=DATE:20241204
SUMMARY:Ausschreibung — Krummennaab - Soziales Zentrum | Metallbauarbeiten Türen DIN
DESCRIPTION:Phase: Ausschreibung | Beschreibung: Offizielle Ausschreibung mit Bieterfrist. | Link: https://ausschreibungsradar.com/ausschreibung/c64df36b-d2a9-460d-aa7b-4f8b01f30302/
URL:https://ausschreibungsradar.com/ausschreibung/c64df36b-d2a9-460d-aa7b-4f8b01f30302/
END:VEVENT
BEGIN:VEVENT
UID:46db31fecebaec92@ausschreibungsradar.com
DTSTAMP:20260424T115427Z
DTSTART;VALUE=DATE:20241204
DTEND;VALUE=DATE:20241204
SUMMARY:Ausschreibung — Krummennaab - Soziales Zentrum | Metallbauarbeiten Türen DIN
DESCRIPTION:Phase: Ausschreibung | Beschreibung: Offizielle Ausschreibung mit Bieterfrist. | Link: https://ausschreibungsradar.com/ausschreibung/b4b786f5-601e-4c06-963f-8132d43ba3d2/
URL:https://ausschreibungsradar.com/ausschreibung/b4b786f5-601e-4c06-963f-8132d43ba3d2/
END:VEVENT
BEGIN:VEVENT
UID:8d4d766bcd82b48a@ausschreibungsradar.com
DTSTAMP:20260424T115427Z
DTSTART;VALUE=DATE:20241204
DTEND;VALUE=DATE:20241204
SUMMARY:Ausschreibung — Krummennaab - Soziales Zentrum | Metallbauarbeiten Türen DIN
DESCRIPTION:Phase: Ausschreibung | Beschreibung: Offizielle Ausschreibung mit Bieterfrist. | Link: https://ausschreibungsradar.com/ausschreibung/58a81d73-718c-4e3a-83ec-61cd4a4b257f/
URL:https://ausschreibungsradar.com/ausschreibung/58a81d73-718c-4e3a-83ec-61cd4a4b257f/
END:VEVENT
BEGIN:VEVENT
UID:e8c31e37312973c1@ausschreibungsradar.com
DTSTAMP:20260424T115427Z
DTSTART;VALUE=DATE:20241204
DTEND;VALUE=DATE:20241204
SUMMARY:Ausschreibung — Krummennaab - Soziales Zentrum | Metallbauarbeiten Türen DIN
DESCRIPTION:Phase: Ausschreibung | Beschreibung: Offizielle Ausschreibung mit Bieterfrist. | Link: https://ausschreibungsradar.com/ausschreibung/b219eae9-fd64-4950-95da-44bd8f12410c/
URL:https://ausschreibungsradar.com/ausschreibung/b219eae9-fd64-4950-95da-44bd8f12410c/
END:VEVENT
END:VCALENDAR
