BEGIN:VCALENDAR
VERSION:2.0
PRODID:-//AusschreibungsRadar//Timeline//DE
CALSCALE:GREGORIAN
METHOD:PUBLISH
X-WR-CALNAME:Projekt EU-weite Ausschreibung zur Beschaffung von 5 Abfallsammelfah
X-WR-TIMEZONE:Europe/Berlin
BEGIN:VEVENT
UID:1a4231d85071f110@ausschreibungsradar.com
DTSTAMP:20260424T115258Z
DTSTART;VALUE=DATE:20250929
DTEND;VALUE=DATE:20250929
SUMMARY:Ausschreibung — EU-weite Ausschreibung zur Beschaffung von 5 Abfallsammelfah
DESCRIPTION:Phase: Ausschreibung | Beschreibung: Angebote werden eingeholt | Link: https://ausschreibungsradar.com/ausschreibung/0b1d962b-e2e2-4dfd-b292-0d328f309556/
URL:https://ausschreibungsradar.com/ausschreibung/0b1d962b-e2e2-4dfd-b292-0d328f309556/
END:VEVENT
BEGIN:VEVENT
UID:76e842aa2a6d5752@ausschreibungsradar.com
DTSTAMP:20260424T115258Z
DTSTART;VALUE=DATE:20260301
DTEND;VALUE=DATE:20260301
SUMMARY:Vergabeergebnis — EU-weite Ausschreibung zur Beschaffung von 5 Abfallsammelfah
DESCRIPTION:Phase: Vergabeergebnis | Beschreibung: Auftrag wurde zugeschlagen | Link: https://ausschreibungsradar.com/ausschreibung/401b0aae-e93d-4a7f-b0be-714b4cd42fd5/
URL:https://ausschreibungsradar.com/ausschreibung/401b0aae-e93d-4a7f-b0be-714b4cd42fd5/
END:VEVENT
BEGIN:VEVENT
UID:8adc554a04c882dd@ausschreibungsradar.com
DTSTAMP:20260424T115258Z
DTSTART;VALUE=DATE:20260319
DTEND;VALUE=DATE:20260319
SUMMARY:Ausschreibung — EU-weite Ausschreibung zur Beschaffung von 5 Abfallsammelfah
DESCRIPTION:Phase: Ausschreibung | Beschreibung: Offizielle Ausschreibung mit Bieterfrist. | Link: https://ausschreibungsradar.com/ausschreibung/aa74c1e1-3267-4e81-b252-55a570892e03/
URL:https://ausschreibungsradar.com/ausschreibung/aa74c1e1-3267-4e81-b252-55a570892e03/
END:VEVENT
END:VCALENDAR
