BEGIN:VCALENDAR
VERSION:2.0
PRODID:-//AusschreibungsRadar//Timeline//DE
CALSCALE:GREGORIAN
METHOD:PUBLISH
X-WR-CALNAME:Projekt Druckdienstleistungen für das IHKmagazin
X-WR-TIMEZONE:Europe/Berlin
BEGIN:VEVENT
UID:f4c916c0d31e1e2e@ausschreibungsradar.com
DTSTAMP:20260423T223427Z
DTSTART;VALUE=DATE:20250926
DTEND;VALUE=DATE:20250926
SUMMARY:Angebotsfrist — Druckdienstleistungen für das IHKmagazin
DESCRIPTION:Phase: Ausschreibung | Beschreibung: Angebote werden eingeholt | Link: https://ausschreibungsradar.com/ausschreibung/407817ee-43d5-45fe-9d7f-6bc2e19ebfea/
URL:https://ausschreibungsradar.com/ausschreibung/407817ee-43d5-45fe-9d7f-6bc2e19ebfea/
END:VEVENT
BEGIN:VEVENT
UID:9c6d29769537de37@ausschreibungsradar.com
DTSTAMP:20260423T223427Z
DTSTART;VALUE=DATE:20250801
DTEND;VALUE=DATE:20250801
SUMMARY:Ausschreibung — Druckdienstleistungen für das IHKmagazin
DESCRIPTION:Phase: Ausschreibung | Beschreibung: Offizielle Ausschreibung mit Bieterfrist. | Link: https://ausschreibungsradar.com/ausschreibung/4523ebea-2d2b-4fbf-83f0-379225350b24/
URL:https://ausschreibungsradar.com/ausschreibung/4523ebea-2d2b-4fbf-83f0-379225350b24/
END:VEVENT
BEGIN:VEVENT
UID:6a771aac9ee76d3b@ausschreibungsradar.com
DTSTAMP:20260423T223427Z
DTSTART;VALUE=DATE:20250801
DTEND;VALUE=DATE:20250801
SUMMARY:Ausschreibung — Druckdienstleistungen für das IHKmagazin
DESCRIPTION:Phase: Ausschreibung | Beschreibung: Offizielle Ausschreibung mit Bieterfrist. | Link: https://ausschreibungsradar.com/ausschreibung/7c8804d1-de8a-496d-9c28-261add87762a/
URL:https://ausschreibungsradar.com/ausschreibung/7c8804d1-de8a-496d-9c28-261add87762a/
END:VEVENT
BEGIN:VEVENT
UID:6d675e69153d8d85@ausschreibungsradar.com
DTSTAMP:20260423T223427Z
DTSTART;VALUE=DATE:20250801
DTEND;VALUE=DATE:20250801
SUMMARY:Ausschreibung — Druckdienstleistungen für das IHKmagazin
DESCRIPTION:Phase: Ausschreibung | Beschreibung: Offizielle Ausschreibung mit Bieterfrist. | Link: https://ausschreibungsradar.com/ausschreibung/b972b11f-a7ec-4d98-bd37-63185d620b25/
URL:https://ausschreibungsradar.com/ausschreibung/b972b11f-a7ec-4d98-bd37-63185d620b25/
END:VEVENT
BEGIN:VEVENT
UID:68f99dc492bae445@ausschreibungsradar.com
DTSTAMP:20260423T223427Z
DTSTART;VALUE=DATE:20250801
DTEND;VALUE=DATE:20250801
SUMMARY:Ausschreibung — Druckdienstleistungen für das IHKmagazin
DESCRIPTION:Phase: Ausschreibung | Beschreibung: Offizielle Ausschreibung mit Bieterfrist. | Link: https://ausschreibungsradar.com/ausschreibung/66ac979c-ce19-4ca0-b106-0ed19d0a83f1/
URL:https://ausschreibungsradar.com/ausschreibung/66ac979c-ce19-4ca0-b106-0ed19d0a83f1/
END:VEVENT
BEGIN:VEVENT
UID:4af0ca2e3bad5e47@ausschreibungsradar.com
DTSTAMP:20260423T223427Z
DTSTART;VALUE=DATE:20251118
DTEND;VALUE=DATE:20251118
SUMMARY:Vergabeergebnis — Druckdienstleistungen für das IHKmagazin
DESCRIPTION:Phase: Vergabeergebnis | Beschreibung: Auftrag wurde zugeschlagen | Link: https://ausschreibungsradar.com/ausschreibung/ec9f3bab-b6e3-493f-82a8-0a123a569866/
URL:https://ausschreibungsradar.com/ausschreibung/ec9f3bab-b6e3-493f-82a8-0a123a569866/
END:VEVENT
END:VCALENDAR
