BEGIN:VCALENDAR
VERSION:2.0
PRODID:-//AusschreibungsRadar//Timeline//DE
CALSCALE:GREGORIAN
METHOD:PUBLISH
X-WR-CALNAME:Projekt Stadthalle Zeulenroda-VE_301.1 Entkernung/ VE_301.2 Abbruch,
X-WR-TIMEZONE:Europe/Berlin
BEGIN:VEVENT
UID:95420b46f129e5eb@ausschreibungsradar.com
DTSTAMP:20260426T004536Z
DTSTART;VALUE=DATE:20251205
DTEND;VALUE=DATE:20251205
SUMMARY:Angebotsfrist — Stadthalle Zeulenroda-VE_301.1 Entkernung/ VE_301.2 Abbruch\,
DESCRIPTION:Phase: Ausschreibung | Beschreibung: Angebote werden eingeholt | Link: https://ausschreibungsradar.com/ausschreibung/ee6ed738-4fc3-4c10-acb5-e8d31b97bcf0/
URL:https://ausschreibungsradar.com/ausschreibung/ee6ed738-4fc3-4c10-acb5-e8d31b97bcf0/
END:VEVENT
BEGIN:VEVENT
UID:6d616a722b5dc932@ausschreibungsradar.com
DTSTAMP:20260426T004536Z
DTSTART;VALUE=DATE:20260113
DTEND;VALUE=DATE:20260113
SUMMARY:Vergabeergebnis — Stadthalle Zeulenroda-VE_301.1 Entkernung/ VE_301.2 Abbruch\,
DESCRIPTION:Phase: Vergabeergebnis | Beschreibung: Auftrag wurde zugeschlagen | Link: https://ausschreibungsradar.com/ausschreibung/424265a5-7e8e-4bdc-9092-469ff7d0e072/ | Geschätzter Wert: 592050 €
URL:https://ausschreibungsradar.com/ausschreibung/424265a5-7e8e-4bdc-9092-469ff7d0e072/
END:VEVENT
END:VCALENDAR
