BEGIN:VCALENDAR
VERSION:2.0
PRODID:-//AusschreibungsRadar//Timeline//DE
CALSCALE:GREGORIAN
METHOD:PUBLISH
X-WR-CALNAME:Projekt Rahmenvertrag von Hygiene- und Reinigungsmittel
X-WR-TIMEZONE:Europe/Berlin
BEGIN:VEVENT
UID:9601a88b84fe277c@ausschreibungsradar.com
DTSTAMP:20260425T004038Z
DTSTART;VALUE=DATE:20240522
DTEND;VALUE=DATE:20240522
SUMMARY:Angebotsfrist — Rahmenvertrag von Hygiene- und Reinigungsmittel
DESCRIPTION:Phase: Ausschreibung | Beschreibung: Angebote werden eingeholt | Link: https://ausschreibungsradar.com/ausschreibung/424e7a6b-4258-4d4d-8694-7abb4b27a73f/
URL:https://ausschreibungsradar.com/ausschreibung/424e7a6b-4258-4d4d-8694-7abb4b27a73f/
END:VEVENT
BEGIN:VEVENT
UID:85c189a6da06e2ca@ausschreibungsradar.com
DTSTAMP:20260425T004038Z
DTSTART;VALUE=DATE:20240412
DTEND;VALUE=DATE:20240412
SUMMARY:Ausschreibung — Rahmenvertrag von Hygiene- und Reinigungsmittel
DESCRIPTION:Phase: Ausschreibung | Beschreibung: Offizielle Ausschreibung mit Bieterfrist. | Link: https://ausschreibungsradar.com/ausschreibung/f8136b83-2300-4543-b1b1-e09782ca8d4e/
URL:https://ausschreibungsradar.com/ausschreibung/f8136b83-2300-4543-b1b1-e09782ca8d4e/
END:VEVENT
BEGIN:VEVENT
UID:1325ba56be5a63da@ausschreibungsradar.com
DTSTAMP:20260425T004038Z
DTSTART;VALUE=DATE:20240731
DTEND;VALUE=DATE:20240731
SUMMARY:Vergabeergebnis — Rahmenvertrag von Hygiene- und Reinigungsmittel
DESCRIPTION:Phase: Vergabeergebnis | Beschreibung: Auftrag wurde zugeschlagen | Link: https://ausschreibungsradar.com/ausschreibung/06d1c7fd-77b2-4a54-b285-97c3dc5e915d/
URL:https://ausschreibungsradar.com/ausschreibung/06d1c7fd-77b2-4a54-b285-97c3dc5e915d/
END:VEVENT
END:VCALENDAR
