BEGIN:VCALENDAR
VERSION:2.0
PRODID:-//AusschreibungsRadar//Timeline//DE
CALSCALE:GREGORIAN
METHOD:PUBLISH
X-WR-CALNAME:Projekt Schreinerarbeiten 4
X-WR-TIMEZONE:Europe/Berlin
BEGIN:VEVENT
UID:68a50366b35b8166@ausschreibungsradar.com
DTSTAMP:20260424T032511Z
DTSTART;VALUE=DATE:20251209
DTEND;VALUE=DATE:20251209
SUMMARY:Angebotsfrist — Schreinerarbeiten 4
DESCRIPTION:Phase: Ausschreibung | Beschreibung: Angebote werden eingeholt | Link: https://ausschreibungsradar.com/ausschreibung/42719f85-38f1-4e6f-937b-5b1b26ea7465/
URL:https://ausschreibungsradar.com/ausschreibung/42719f85-38f1-4e6f-937b-5b1b26ea7465/
END:VEVENT
BEGIN:VEVENT
UID:ca30d8bb9bfbc542@ausschreibungsradar.com
DTSTAMP:20260424T032511Z
DTSTART;VALUE=DATE:20251230
DTEND;VALUE=DATE:20251230
SUMMARY:Vergabeergebnis — Schreinerarbeiten 4
DESCRIPTION:Phase: Vergabeergebnis | Beschreibung: Auftrag wurde zugeschlagen | Link: https://ausschreibungsradar.com/ausschreibung/bb22f95a-3baf-4c26-8e19-e5ddc5f12b4c/
URL:https://ausschreibungsradar.com/ausschreibung/bb22f95a-3baf-4c26-8e19-e5ddc5f12b4c/
END:VEVENT
END:VCALENDAR
