BEGIN:VCALENDAR
VERSION:2.0
PRODID:-//AusschreibungsRadar//Timeline//DE
CALSCALE:GREGORIAN
METHOD:PUBLISH
X-WR-CALNAME:Projekt Wartung, Erweiterung und Instandsetzung der sicherheitstechn
X-WR-TIMEZONE:Europe/Berlin
BEGIN:VEVENT
UID:2170a96cda088b5a@ausschreibungsradar.com
DTSTAMP:20260424T054817Z
DTSTART;VALUE=DATE:20250625
DTEND;VALUE=DATE:20250625
SUMMARY:Angebotsfrist — Wartung\, Erweiterung und Instandsetzung der sicherheitstechn
DESCRIPTION:Phase: Ausschreibung | Beschreibung: Angebote werden eingeholt | Link: https://ausschreibungsradar.com/ausschreibung/4337bfda-ad5d-4b52-9c41-cb229d7d2094/ | Geschätzter Wert: 327534 €
URL:https://ausschreibungsradar.com/ausschreibung/4337bfda-ad5d-4b52-9c41-cb229d7d2094/
END:VEVENT
BEGIN:VEVENT
UID:5c2d6393860fe1a1@ausschreibungsradar.com
DTSTAMP:20260424T054817Z
DTSTART;VALUE=DATE:20250505
DTEND;VALUE=DATE:20250505
SUMMARY:Ausschreibung — Wartung\, Erweiterung und Instandsetzung der sicherheitstechn
DESCRIPTION:Phase: Ausschreibung | Beschreibung: Offizielle Ausschreibung mit Bieterfrist. | Link: https://ausschreibungsradar.com/ausschreibung/4d943ef5-b9e1-4900-aecf-b9ac796bb57b/
URL:https://ausschreibungsradar.com/ausschreibung/4d943ef5-b9e1-4900-aecf-b9ac796bb57b/
END:VEVENT
BEGIN:VEVENT
UID:3e4e21aaa01a2059@ausschreibungsradar.com
DTSTAMP:20260424T054817Z
DTSTART;VALUE=DATE:20250505
DTEND;VALUE=DATE:20250505
SUMMARY:Ausschreibung — Wartung\, Erweiterung und Instandsetzung der sicherheitstechn
DESCRIPTION:Phase: Ausschreibung | Beschreibung: Offizielle Ausschreibung mit Bieterfrist. | Link: https://ausschreibungsradar.com/ausschreibung/96c46e7f-ce25-4d3a-b503-9fc51b2916cc/
URL:https://ausschreibungsradar.com/ausschreibung/96c46e7f-ce25-4d3a-b503-9fc51b2916cc/
END:VEVENT
BEGIN:VEVENT
UID:7a0e3bc605cd938b@ausschreibungsradar.com
DTSTAMP:20260424T054817Z
DTSTART;VALUE=DATE:20250505
DTEND;VALUE=DATE:20250505
SUMMARY:Ausschreibung — Wartung\, Erweiterung und Instandsetzung der sicherheitstechn
DESCRIPTION:Phase: Ausschreibung | Beschreibung: Offizielle Ausschreibung mit Bieterfrist. | Link: https://ausschreibungsradar.com/ausschreibung/8c0e404a-d0c0-436d-8d9f-099fed706c95/
URL:https://ausschreibungsradar.com/ausschreibung/8c0e404a-d0c0-436d-8d9f-099fed706c95/
END:VEVENT
BEGIN:VEVENT
UID:109be502ca967b3f@ausschreibungsradar.com
DTSTAMP:20260424T054817Z
DTSTART;VALUE=DATE:20250505
DTEND;VALUE=DATE:20250505
SUMMARY:Ausschreibung — Wartung\, Erweiterung und Instandsetzung der sicherheitstechn
DESCRIPTION:Phase: Ausschreibung | Beschreibung: Offizielle Ausschreibung mit Bieterfrist. | Link: https://ausschreibungsradar.com/ausschreibung/4a41e736-497c-4600-8f7f-d66fad79f43f/
URL:https://ausschreibungsradar.com/ausschreibung/4a41e736-497c-4600-8f7f-d66fad79f43f/
END:VEVENT
BEGIN:VEVENT
UID:ab747e87f13f5055@ausschreibungsradar.com
DTSTAMP:20260424T054817Z
DTSTART;VALUE=DATE:20250912
DTEND;VALUE=DATE:20250912
SUMMARY:Vergabeergebnis — Wartung\, Erweiterung und Instandsetzung der sicherheitstechn
DESCRIPTION:Phase: Vergabeergebnis | Beschreibung: Auftrag wurde zugeschlagen | Link: https://ausschreibungsradar.com/ausschreibung/ffec7355-7c2f-4138-a617-850f507302d6/ | Geschätzter Wert: 327534 €
URL:https://ausschreibungsradar.com/ausschreibung/ffec7355-7c2f-4138-a617-850f507302d6/
END:VEVENT
END:VCALENDAR
