BEGIN:VCALENDAR
VERSION:2.0
PRODID:-//AusschreibungsRadar//Timeline//DE
CALSCALE:GREGORIAN
METHOD:PUBLISH
X-WR-CALNAME:Projekt KST 269 - Karlstraße - Baumeisterarbeiten
X-WR-TIMEZONE:Europe/Berlin
BEGIN:VEVENT
UID:00354f89534afcf8@ausschreibungsradar.com
DTSTAMP:20260425T231451Z
DTSTART;VALUE=DATE:20250604
DTEND;VALUE=DATE:20250604
SUMMARY:Ausschreibung — KST 269 - Karlstraße - Baumeisterarbeiten
DESCRIPTION:Phase: Ausschreibung | Beschreibung: Angebote werden eingeholt | Link: https://ausschreibungsradar.com/ausschreibung/439a5bf9-d401-4335-9aaa-8c4fbf4785fe/ | Geschätzter Wert: 1255000 €
URL:https://ausschreibungsradar.com/ausschreibung/439a5bf9-d401-4335-9aaa-8c4fbf4785fe/
END:VEVENT
BEGIN:VEVENT
UID:99b058c69795a3ec@ausschreibungsradar.com
DTSTAMP:20260425T231451Z
DTSTART;VALUE=DATE:20250918
DTEND;VALUE=DATE:20250918
SUMMARY:Vergabeergebnis — KST 269 - Karlstraße - Baumeisterarbeiten
DESCRIPTION:Phase: Vergabeergebnis | Beschreibung: Auftrag wurde zugeschlagen | Link: https://ausschreibungsradar.com/ausschreibung/c2bd3ad5-6f5f-48d6-9cd8-588fc5dd10fb/ | Geschätzter Wert: 660000 €
URL:https://ausschreibungsradar.com/ausschreibung/c2bd3ad5-6f5f-48d6-9cd8-588fc5dd10fb/
END:VEVENT
END:VCALENDAR
