BEGIN:VCALENDAR
VERSION:2.0
PRODID:-//AusschreibungsRadar//Timeline//DE
CALSCALE:GREGORIAN
METHOD:PUBLISH
X-WR-CALNAME:Projekt Grund-, Unterhalts- und Glasreinigung EB Puppentheater Magde
X-WR-TIMEZONE:Europe/Berlin
BEGIN:VEVENT
UID:c9c76a3ec406530f@ausschreibungsradar.com
DTSTAMP:20260425T190722Z
DTSTART;VALUE=DATE:20260218
DTEND;VALUE=DATE:20260218
SUMMARY:Ausschreibung — Grund-\, Unterhalts- und Glasreinigung EB Puppentheater Magde
DESCRIPTION:Phase: Ausschreibung | Beschreibung: Angebote werden eingeholt | Link: https://ausschreibungsradar.com/ausschreibung/441c136f-80c9-4b9e-a4e6-a8b3433210f2/
URL:https://ausschreibungsradar.com/ausschreibung/441c136f-80c9-4b9e-a4e6-a8b3433210f2/
END:VEVENT
BEGIN:VEVENT
UID:c84d8299c4d4910c@ausschreibungsradar.com
DTSTAMP:20260425T190722Z
DTSTART;VALUE=DATE:20260218
DTEND;VALUE=DATE:20260218
SUMMARY:Änderung — Grund-\, Unterhalts- und Glasreinigung EB Puppentheater Magde
DESCRIPTION:Phase: Änderung | Beschreibung: Ausschreibung wurde angepasst | Link: https://ausschreibungsradar.com/ausschreibung/441c136f-80c9-4b9e-a4e6-a8b3433210f2/
URL:https://ausschreibungsradar.com/ausschreibung/441c136f-80c9-4b9e-a4e6-a8b3433210f2/
END:VEVENT
END:VCALENDAR
