BEGIN:VCALENDAR
VERSION:2.0
PRODID:-//AusschreibungsRadar//Timeline//DE
CALSCALE:GREGORIAN
METHOD:PUBLISH
X-WR-CALNAME:Projekt Rahmenvereinbarung über die Begutachtung der Bauplanung der 
X-WR-TIMEZONE:Europe/Berlin
BEGIN:VEVENT
UID:56b15be84b222b40@ausschreibungsradar.com
DTSTAMP:20260425T154458Z
DTSTART;VALUE=DATE:20251021
DTEND;VALUE=DATE:20251021
SUMMARY:Angebotsfrist — Rahmenvereinbarung über die Begutachtung der Bauplanung der 
DESCRIPTION:Phase: Ausschreibung | Beschreibung: Angebote werden eingeholt | Link: https://ausschreibungsradar.com/ausschreibung/73c5007a-f8af-4d91-8549-3f7e94abe09a/
URL:https://ausschreibungsradar.com/ausschreibung/73c5007a-f8af-4d91-8549-3f7e94abe09a/
END:VEVENT
BEGIN:VEVENT
UID:a078a35b7689b832@ausschreibungsradar.com
DTSTAMP:20260425T154458Z
DTSTART;VALUE=DATE:20251124
DTEND;VALUE=DATE:20251124
SUMMARY:Vergabeergebnis — Rahmenvereinbarung über die Begutachtung der Bauplanung der 
DESCRIPTION:Phase: Vergabeergebnis | Beschreibung: Keine Angebote eingegangen | Link: https://ausschreibungsradar.com/ausschreibung/44bc6dd6-59e9-45da-babf-372ed5382aea/
URL:https://ausschreibungsradar.com/ausschreibung/44bc6dd6-59e9-45da-babf-372ed5382aea/
END:VEVENT
END:VCALENDAR
